BEGIN:VCALENDAR
VERSION:2.0
PRODID:-//イルチブレインヨガ宝塚スタジオ - ECPv6.15.17.1//NONSGML v1.0//EN
CALSCALE:GREGORIAN
METHOD:PUBLISH
X-ORIGINAL-URL:https://ilchibrainyoga-takarazuka.com
X-WR-CALDESC:イルチブレインヨガ宝塚スタジオ のイベント
REFRESH-INTERVAL;VALUE=DURATION:PT1H
X-Robots-Tag:noindex
X-PUBLISHED-TTL:PT1H
BEGIN:VTIMEZONE
TZID:Asia/Tokyo
BEGIN:STANDARD
TZOFFSETFROM:+0900
TZOFFSETTO:+0900
TZNAME:JST
DTSTART:20230101T000000
END:STANDARD
END:VTIMEZONE
BEGIN:VEVENT
DTSTART;TZID=Asia/Tokyo:20240330T080000
DTEND;TZID=Asia/Tokyo:20240330T170000
DTSTAMP:20260426T110459
CREATED:20240330T121148Z
LAST-MODIFIED:20240330T121148Z
UID:1979-1711785600-1711818000@ilchibrainyoga-takarazuka.com
SUMMARY:体と心スッキリ！体験ワークショップ
DESCRIPTION:体と心スッキリ！体験ワークショップ \n宝塚はそろそろ桜が咲き始めています！\n何となく新しいことをしたくなるこの季節、また春は何かと生活に変化の多い時期です。\n心と身体のケアを学んでみませんか？ \n4月はイルチブレインヨガが得意とする、すぐ覚えられて奥が深い心身のケアをお伝えしたいと思います。 \n\n🐤腸スッキリ＆おなか引き締め：腸の管理で心身を整えよう\n4月6日(土)15時~16時　\n4月10日(水)19時~20時　 \n🐤頭スッキリ：頭がすっきりしないのはここが固いから！\n4月17日(水)19時~20時　\n4月20日(土)14時~15時 \n🐤ストレススッキリ：ストレスは体のここに溜まる！\n4月24日(水)19時~20時\n4月27日(土)14時~15時 \n🐤目覚めスッキリ：寝る前におすすめの万能トレーニング\n4月29日(月)11時~12時\n5月1日(水)19時~20時　 \n\n＊＊＊＊＊＊＊＊＊＊＊＊＊＊＊＊＊＊＊＊＊＊＊＊＊＊＊＊＊＊＊＊＊＊＊＊\n🌸参加費　各回1500円(税込)\n　　要予約　各回6人まで \n🌸予約方法　\nこちらの予約フォームからどうぞ↓ \n体験のご予約 \n \n🌸お問い合わせ\n０７９７－８６－０１９１(応答時間9:00~21:00、レッスン中は留守番電話になります） \n🌈自然な方法で健康になれるよう、お手伝いいたします🌈\n＊＊＊＊＊＊＊＊＊＊＊＊＊＊＊＊＊＊＊＊＊＊＊＊＊＊＊＊＊＊＊＊＊＊＊＊
URL:https://ilchibrainyoga-takarazuka.com/event/%e4%bd%93%e3%81%a8%e5%bf%83%e3%82%b9%e3%83%83%e3%82%ad%e3%83%aa%ef%bc%81%e4%bd%93%e9%a8%93%e3%83%af%e3%83%bc%e3%82%af%e3%82%b7%e3%83%a7%e3%83%83%e3%83%97/
CATEGORIES:イベント,ワークショップ
END:VEVENT
END:VCALENDAR