BEGIN:VCALENDAR
VERSION:2.0
PRODID:-//イルチブレインヨガ宝塚スタジオ - ECPv6.15.17.1//NONSGML v1.0//EN
CALSCALE:GREGORIAN
METHOD:PUBLISH
X-WR-CALNAME:イルチブレインヨガ宝塚スタジオ
X-ORIGINAL-URL:https://ilchibrainyoga-takarazuka.com
X-WR-CALDESC:イルチブレインヨガ宝塚スタジオ のイベント
REFRESH-INTERVAL;VALUE=DURATION:PT1H
X-Robots-Tag:noindex
X-PUBLISHED-TTL:PT1H
BEGIN:VTIMEZONE
TZID:Asia/Tokyo
BEGIN:STANDARD
TZOFFSETFROM:+0900
TZOFFSETTO:+0900
TZNAME:JST
DTSTART:20170101T000000
END:STANDARD
END:VTIMEZONE
BEGIN:VEVENT
DTSTART;TZID=Asia/Tokyo:20190227T180000
DTEND;TZID=Asia/Tokyo:20190227T193000
DTSTAMP:20260426T003927
CREATED:20190122T133322Z
LAST-MODIFIED:20190122T133322Z
UID:656-1551290400-1551295800@ilchibrainyoga-takarazuka.com
SUMMARY:ストレスリリースクラス体験
DESCRIPTION:ストレスリリースクラス体験 \n疾病の80％以上が心因性といわれるほど「ストレスは万病のもと」。ストレスは内臓にも影響を与えます。体を通して自分のストレス度をチェックし、基本の呼吸でリリースするクラスです。\n忙しくて自分のための時間をとってこなかった方、ストレスを自覚されている方におすすめです。 \n体験費3000円(インターネット予約で1000円引）\nイベントのご予約はこちら
URL:https://ilchibrainyoga-takarazuka.com/event/%e3%82%b9%e3%83%88%e3%83%ac%e3%82%b9%e3%83%aa%e3%83%aa%e3%83%bc%e3%82%b9%e3%82%af%e3%83%a9%e3%82%b9%e4%bd%93%e9%a8%93-5/
LOCATION:イルチブレインヨガ宝塚スタジオ\, 宝塚市堺町1－19－14　ワールドターンビル3階
CATEGORIES:ワークショップ
END:VEVENT
BEGIN:VEVENT
DTSTART;TZID=Asia/Tokyo:20190227T101000
DTEND;TZID=Asia/Tokyo:20190227T114000
DTSTAMP:20260426T003927
CREATED:20190122T123256Z
LAST-MODIFIED:20190122T123256Z
UID:646-1551262200-1551267600@ilchibrainyoga-takarazuka.com
SUMMARY:腸・脳スッキリクラス体験
DESCRIPTION:腸・脳スッキリクラス体験 \n腸は免疫力の要です。腸の免疫システムは、人体の80％近くの免疫力を担っているといわれます。\n薬に頼らず、呼吸法と体操、腸ほぐしで腸の働きを助けるレッスンです。胃腸の調子が悪い方も是非どうぞ。\n体験費3000円(インターネット予約で1000円引）\nイベントのご予約はこちら
URL:https://ilchibrainyoga-takarazuka.com/event/%e8%85%b8%e3%83%bb%e8%84%b3%e3%82%b9%e3%83%83%e3%82%ad%e3%83%aa%e3%82%af%e3%83%a9%e3%82%b9%e4%bd%93%e9%a8%93-11/
LOCATION:イルチブレインヨガ宝塚スタジオ\, 宝塚市堺町1－19－14　ワールドターンビル3階
CATEGORIES:ワークショップ
END:VEVENT
BEGIN:VEVENT
DTSTART;TZID=Asia/Tokyo:20190223T101000
DTEND;TZID=Asia/Tokyo:20190223T114000
DTSTAMP:20260426T003927
CREATED:20190122T123142Z
LAST-MODIFIED:20190122T123142Z
UID:644-1550916600-1550922000@ilchibrainyoga-takarazuka.com
SUMMARY:腸・脳スッキリクラス体験
DESCRIPTION:腸・脳スッキリクラス体験 \n腸は免疫力の要です。腸の免疫システムは、人体の80％近くの免疫力を担っているといわれます。\n薬に頼らず、呼吸法と体操、腸ほぐしで腸の働きを助けるレッスンです。胃腸の調子が悪い方も是非どうぞ。\n体験費3000円(インターネット予約で1000円引）\nイベントのご予約はこちら
URL:https://ilchibrainyoga-takarazuka.com/event/%e8%85%b8%e3%83%bb%e8%84%b3%e3%82%b9%e3%83%83%e3%82%ad%e3%83%aa%e3%82%af%e3%83%a9%e3%82%b9%e4%bd%93%e9%a8%93-10/
LOCATION:イルチブレインヨガ宝塚スタジオ\, 宝塚市堺町1－19－14　ワールドターンビル3階
CATEGORIES:ワークショップ
ORGANIZER;CN="%E3%82%A4%E3%83%AB%E3%83%81%E3%83%96%E3%83%AC%E3%82%A4%E3%83%B3%E3%83%A8%E3%82%AC %E5%AE%9D%E5%A1%9A":MAILTO:ilchibrtakarazuka@gmail.com
END:VEVENT
BEGIN:VEVENT
DTSTART;TZID=Asia/Tokyo:20190221T140000
DTEND;TZID=Asia/Tokyo:20190221T153000
DTSTAMP:20260426T003927
CREATED:20181226T122012Z
LAST-MODIFIED:20181226T122747Z
UID:595-1550757600-1550763000@ilchibrainyoga-takarazuka.com
SUMMARY:体からのサインをキャッチしよう。「自己ヒーリング体験ワークショップ」
DESCRIPTION:体からのサインをキャッチしよう。「自己ヒーリング体験ワークショップ」\n \n開催日時：2019年２月２１日(木)　2:00 PM – 3:30 PM\n場所：　南口会館(阪急宝塚南駅徒歩2分、サンビオラ5番館3階） \n内容：体の疲れやストレスの状態は体の反応に現れます。\n　　　簡単なエクササイズと、手足のツボ押しで、自分に必要なヒーリングポイントを探します。\n　　　健康の自己管理方法を体験してみましょう。 \n問合せ電話：　0797－86－0191\nトレーナー：　高木　桂子\nその他：動きやすい服と靴でお越しください。\nイベントのご予約はこちら
URL:https://ilchibrainyoga-takarazuka.com/event/%e4%bd%93%e3%81%8b%e3%82%89%e3%81%ae%e3%82%b5%e3%82%a4%e3%83%b3%e3%82%92%e3%82%ad%e3%83%a3%e3%83%83%e3%83%81%e3%81%97%e3%82%88%e3%81%86%e3%80%82%e3%80%8c%e8%87%aa%e5%b7%b1%e3%83%92%e3%83%bc%e3%83%aa-4/
CATEGORIES:ワークショップ
END:VEVENT
BEGIN:VEVENT
DTSTART;TZID=Asia/Tokyo:20190220T141000
DTEND;TZID=Asia/Tokyo:20190220T154000
DTSTAMP:20260426T003927
CREATED:20190122T133451Z
LAST-MODIFIED:20190122T133451Z
UID:658-1550671800-1550677200@ilchibrainyoga-takarazuka.com
SUMMARY:ストレスリリースクラス体験
DESCRIPTION:ストレスリリースクラス体験 \n疾病の80％以上が心因性といわれるほど「ストレスは万病のもと」。ストレスは内臓にも影響を与えます。体を通して自分のストレス度をチェックし、基本の呼吸でリリースするクラスです。\n忙しくて自分のための時間をとってこなかった方、ストレスを自覚されている方におすすめです。 \n体験費3000円(インターネット予約で1000円引）\nイベントのご予約はこちら
URL:https://ilchibrainyoga-takarazuka.com/event/%e3%82%b9%e3%83%88%e3%83%ac%e3%82%b9%e3%83%aa%e3%83%aa%e3%83%bc%e3%82%b9%e3%82%af%e3%83%a9%e3%82%b9%e4%bd%93%e9%a8%93-6/
LOCATION:イルチブレインヨガ宝塚スタジオ\, 宝塚市堺町1－19－14　ワールドターンビル3階
CATEGORIES:ワークショップ
END:VEVENT
BEGIN:VEVENT
DTSTART;TZID=Asia/Tokyo:20190220T101000
DTEND;TZID=Asia/Tokyo:20190220T114000
DTSTAMP:20260426T003927
CREATED:20190122T123027Z
LAST-MODIFIED:20190122T123027Z
UID:642-1550657400-1550662800@ilchibrainyoga-takarazuka.com
SUMMARY:腸・脳スッキリクラス体験
DESCRIPTION:腸・脳スッキリクラス体験 \n腸は免疫力の要です。腸の免疫システムは、人体の80％近くの免疫力を担っているといわれます。\n薬に頼らず、呼吸法と体操、腸ほぐしで腸の働きを助けるレッスンです。胃腸の調子が悪い方も是非どうぞ。\n体験費3000円(インターネット予約で1000円引）\nイベントのご予約はこちら
URL:https://ilchibrainyoga-takarazuka.com/event/%e8%85%b8%e3%83%bb%e8%84%b3%e3%82%b9%e3%83%83%e3%82%ad%e3%83%aa%e3%82%af%e3%83%a9%e3%82%b9%e4%bd%93%e9%a8%93-9/
LOCATION:イルチブレインヨガ宝塚スタジオ\, 宝塚市堺町1－19－14　ワールドターンビル3階
CATEGORIES:ワークショップ
END:VEVENT
BEGIN:VEVENT
DTSTART;TZID=Asia/Tokyo:20190216T101000
DTEND;TZID=Asia/Tokyo:20190216T114000
DTSTAMP:20260426T003927
CREATED:20190122T122902Z
LAST-MODIFIED:20190122T122902Z
UID:640-1550311800-1550317200@ilchibrainyoga-takarazuka.com
SUMMARY:腸・脳スッキリクラス体験
DESCRIPTION:腸・脳スッキリクラス体験 \n腸は免疫力の要です。腸の免疫システムは、人体の80％近くの免疫力を担っているといわれます。\n薬に頼らず、呼吸法と体操、腸ほぐしで腸の働きを助けるレッスンです。胃腸の調子が悪い方も是非どうぞ。\n体験費3000円(インターネット予約で1000円引）\nイベントのご予約はこちら
URL:https://ilchibrainyoga-takarazuka.com/event/%e8%85%b8%e3%83%bb%e8%84%b3%e3%82%b9%e3%83%83%e3%82%ad%e3%83%aa%e3%82%af%e3%83%a9%e3%82%b9%e4%bd%93%e9%a8%93-8/
LOCATION:イルチブレインヨガ宝塚スタジオ\, 宝塚市堺町1－19－14　ワールドターンビル3階
CATEGORIES:ワークショップ
END:VEVENT
BEGIN:VEVENT
DTSTART;TZID=Asia/Tokyo:20190213T180000
DTEND;TZID=Asia/Tokyo:20190213T193000
DTSTAMP:20260426T003927
CREATED:20190122T133204Z
LAST-MODIFIED:20190122T133204Z
UID:654-1550080800-1550086200@ilchibrainyoga-takarazuka.com
SUMMARY:ストレスリリースクラス体験
DESCRIPTION:ストレスリリースクラス体験 \n疾病の80％以上が心因性といわれるほど「ストレスは万病のもと」。ストレスは内臓にも影響を与えます。体を通して自分のストレス度をチェックし、基本の呼吸でリリースするクラスです。\n忙しくて自分のための時間をとってこなかった方、ストレスを自覚されている方におすすめです。 \n体験費3000円(インターネット予約で1000円引）\nイベントのご予約はこちら
URL:https://ilchibrainyoga-takarazuka.com/event/%e3%82%b9%e3%83%88%e3%83%ac%e3%82%b9%e3%83%aa%e3%83%aa%e3%83%bc%e3%82%b9%e3%82%af%e3%83%a9%e3%82%b9%e4%bd%93%e9%a8%93-4/
LOCATION:イルチブレインヨガ宝塚スタジオ\, 宝塚市堺町1－19－14　ワールドターンビル3階
CATEGORIES:ワークショップ
END:VEVENT
BEGIN:VEVENT
DTSTART;TZID=Asia/Tokyo:20190213T101000
DTEND;TZID=Asia/Tokyo:20190213T114000
DTSTAMP:20260426T003927
CREATED:20190122T122747Z
LAST-MODIFIED:20190122T122747Z
UID:638-1550052600-1550058000@ilchibrainyoga-takarazuka.com
SUMMARY:腸・脳スッキリクラス体験
DESCRIPTION:腸・脳スッキリクラス体験 \n腸は免疫力の要です。腸の免疫システムは、人体の80％近くの免疫力を担っているといわれます。\n薬に頼らず、呼吸法と体操、腸ほぐしで腸の働きを助けるレッスンです。胃腸の調子が悪い方も是非どうぞ。\n体験費3000円(インターネット予約で1000円引）\nイベントのご予約はこちら
URL:https://ilchibrainyoga-takarazuka.com/event/%e8%85%b8%e3%83%bb%e8%84%b3%e3%82%b9%e3%83%83%e3%82%ad%e3%83%aa%e3%82%af%e3%83%a9%e3%82%b9%e4%bd%93%e9%a8%93-7/
LOCATION:イルチブレインヨガ宝塚スタジオ\, 宝塚市堺町1－19－14　ワールドターンビル3階
CATEGORIES:ワークショップ
END:VEVENT
BEGIN:VEVENT
DTSTART;TZID=Asia/Tokyo:20190209T101000
DTEND;TZID=Asia/Tokyo:20190209T114000
DTSTAMP:20260426T003927
CREATED:20190122T122625Z
LAST-MODIFIED:20190122T122625Z
UID:636-1549707000-1549712400@ilchibrainyoga-takarazuka.com
SUMMARY:腸・脳スッキリクラス体験
DESCRIPTION:腸・脳スッキリクラス体験 \n腸は免疫力の要です。腸の免疫システムは、人体の80％近くの免疫力を担っているといわれます。\n薬に頼らず、呼吸法と体操、腸ほぐしで腸の働きを助けるレッスンです。胃腸の調子が悪い方も是非どうぞ。\n体験費3000円(インターネット予約で1000円引）\nイベントのご予約はこちら
URL:https://ilchibrainyoga-takarazuka.com/event/%e8%85%b8%e3%83%bb%e8%84%b3%e3%82%b9%e3%83%83%e3%82%ad%e3%83%aa%e3%82%af%e3%83%a9%e3%82%b9%e4%bd%93%e9%a8%93-6/
LOCATION:イルチブレインヨガ宝塚スタジオ\, 宝塚市堺町1－19－14　ワールドターンビル3階
CATEGORIES:イベント,ワークショップ
END:VEVENT
BEGIN:VEVENT
DTSTART;TZID=Asia/Tokyo:20190206T141000
DTEND;TZID=Asia/Tokyo:20190206T154000
DTSTAMP:20260426T003927
CREATED:20190122T133047Z
LAST-MODIFIED:20190122T133047Z
UID:652-1549462200-1549467600@ilchibrainyoga-takarazuka.com
SUMMARY:ストレスリリースクラス体験
DESCRIPTION:ストレスリリースクラス体験 \n疾病の80％以上が心因性といわれるほど「ストレスは万病のもと」。ストレスは内臓にも影響を与えます。体を通して自分のストレス度をチェックし、基本の呼吸でリリースするクラスです。\n忙しくて自分のための時間をとってこなかった方、ストレスを自覚されている方におすすめです。 \n体験費3000円(インターネット予約で1000円引）\nイベントのご予約はこちら
URL:https://ilchibrainyoga-takarazuka.com/event/%e3%82%b9%e3%83%88%e3%83%ac%e3%82%b9%e3%83%aa%e3%83%aa%e3%83%bc%e3%82%b9%e3%82%af%e3%83%a9%e3%82%b9%e4%bd%93%e9%a8%93-3/
LOCATION:イルチブレインヨガ宝塚スタジオ\, 宝塚市堺町1－19－14　ワールドターンビル3階
CATEGORIES:ワークショップ
END:VEVENT
BEGIN:VEVENT
DTSTART;TZID=Asia/Tokyo:20190206T101000
DTEND;TZID=Asia/Tokyo:20190206T114000
DTSTAMP:20260426T003927
CREATED:20190122T122419Z
LAST-MODIFIED:20190122T122419Z
UID:633-1549447800-1549453200@ilchibrainyoga-takarazuka.com
SUMMARY:腸・脳スッキリクラス体験
DESCRIPTION:腸・脳スッキリクラス体験 \n腸は免疫力の要です。腸の免疫システムは、人体の80％近くの免疫力を担っているといわれます。\n薬に頼らず、呼吸法と体操、腸ほぐしで腸の働きを助けるレッスンです。胃腸の調子が悪い方も是非どうぞ。\n体験費3000円(インターネット予約で1000円引）\nイベントのご予約はこちら
URL:https://ilchibrainyoga-takarazuka.com/event/%e8%85%b8%e3%83%bb%e8%84%b3%e3%82%b9%e3%83%83%e3%82%ad%e3%83%aa%e3%82%af%e3%83%a9%e3%82%b9%e4%bd%93%e9%a8%93-5/
LOCATION:イルチブレインヨガ宝塚スタジオ\, 宝塚市堺町1－19－14　ワールドターンビル3階
CATEGORIES:イベント,ワークショップ
END:VEVENT
BEGIN:VEVENT
DTSTART;TZID=Asia/Tokyo:20190202T140000
DTEND;TZID=Asia/Tokyo:20190202T153000
DTSTAMP:20260426T003927
CREATED:20190119T043622Z
LAST-MODIFIED:20190119T043750Z
UID:612-1549116000-1549121400@ilchibrainyoga-takarazuka.com
SUMMARY:BHPで自分ケア＆簡単ストレッチ体験会
DESCRIPTION:開催日時：2019年２月２日(土)　2:00 PM – 3:15 PM\n場所：　山本会館(阪急山本駅南西へ徒歩５分、あいあいパーク内） \n内容：～押すだけ！なのに反応が早いBHP～\n“ＢＨＰ（ＢｒａｉｎＥｄｕｃａｔｉｏｎ　Ｈｅａｌｉｎｇ　Ｐｏｉｎｔ）は、\n手先、足先、頭などのツボを押しながら、自分で自分をケアできる\nヒーリング法で、あなたのヒーリングポイントを探します。\n体も伸ばして、全身スッキリしましょう。”\n\n“こんな方におすすめ：\n関節がつらい、肩や腰がつらい、頭や目の疲れ\n冷えやすい、むくみやすい、すぐ疲れる” \n参加費　1回1500円(税込)\n問合せ電話：　0797－86－0191\nトレーナー：　岩田 郁子、中島 和子\nその他：動きやすい服と靴でお越しください。\nイベントのご予約はこちら
URL:https://ilchibrainyoga-takarazuka.com/event/bhp%e3%81%a7%e8%87%aa%e5%88%86%e3%82%b1%e3%82%a2%ef%bc%86%e7%b0%a1%e5%8d%98%e3%82%b9%e3%83%88%e3%83%ac%e3%83%83%e3%83%81%e4%bd%93%e9%a8%93%e4%bc%9a/
LOCATION:山本会館　集会室２（あいあいパーク内）\, 兵庫県宝塚市山本東2-2-1\, 宝塚市\, 兵庫県\, 665-0881
CATEGORIES:イベント,ワークショップ
END:VEVENT
BEGIN:VEVENT
DTSTART;TZID=Asia/Tokyo:20190202T101000
DTEND;TZID=Asia/Tokyo:20190202T114000
DTSTAMP:20260426T003927
CREATED:20190119T092256Z
LAST-MODIFIED:20190122T122209Z
UID:630-1549102200-1549107600@ilchibrainyoga-takarazuka.com
SUMMARY:腸・脳スッキリクラス体験
DESCRIPTION:腸・脳スッキリクラス体験 \n腸は免疫力の要です。腸の免疫システムは、人体の80％近くの免疫力を担っているといわれます。\n薬に頼らず、呼吸法と体操、腸ほぐしで腸の働きを助けるレッスンです。胃腸の調子が悪い方も是非どうぞ。\n体験費3000円(インターネット予約で1000円引）\nイベントのご予約はこちら
URL:https://ilchibrainyoga-takarazuka.com/event/%e8%85%b8%e3%83%bb%e8%84%b3%e3%82%b9%e3%83%83%e3%82%ad%e3%83%aa%e3%82%af%e3%83%a9%e3%82%b9%e4%bd%93%e9%a8%93-4/
LOCATION:イルチブレインヨガ宝塚スタジオ\, 宝塚市堺町1－19－14　ワールドターンビル3階
CATEGORIES:イベント,ワークショップ
ORGANIZER;CN="%E3%82%A4%E3%83%AB%E3%83%81%E3%83%96%E3%83%AC%E3%82%A4%E3%83%B3%E3%83%A8%E3%82%AC %E5%AE%9D%E5%A1%9A":MAILTO:ilchibrtakarazuka@gmail.com
END:VEVENT
BEGIN:VEVENT
DTSTART;TZID=Asia/Tokyo:20190130T141000
DTEND;TZID=Asia/Tokyo:20190130T154000
DTSTAMP:20260426T003927
CREATED:20190122T132911Z
LAST-MODIFIED:20190122T132911Z
UID:650-1548857400-1548862800@ilchibrainyoga-takarazuka.com
SUMMARY:ストレスリリースクラス体験
DESCRIPTION:ストレスリリースクラス体験 \n疾病の80％以上が心因性といわれるほど「ストレスは万病のもと」。ストレスは内臓にも影響を与えます。体を通して自分のストレス度をチェックし、基本の呼吸でリリースするクラスです。\n忙しくて自分のための時間をとってこなかった方、ストレスを自覚されている方におすすめです。 \n体験費3000円(インターネット予約で1000円引）\nイベントのご予約はこちら
URL:https://ilchibrainyoga-takarazuka.com/event/%e3%82%b9%e3%83%88%e3%83%ac%e3%82%b9%e3%83%aa%e3%83%aa%e3%83%bc%e3%82%b9%e3%82%af%e3%83%a9%e3%82%b9%e4%bd%93%e9%a8%93-2/
LOCATION:イルチブレインヨガ宝塚スタジオ\, 宝塚市堺町1－19－14　ワールドターンビル3階
CATEGORIES:ワークショップ
END:VEVENT
BEGIN:VEVENT
DTSTART;TZID=Asia/Tokyo:20190130T101000
DTEND;TZID=Asia/Tokyo:20190130T114000
DTSTAMP:20260426T003927
CREATED:20190119T091945Z
LAST-MODIFIED:20190119T091945Z
UID:628-1548843000-1548848400@ilchibrainyoga-takarazuka.com
SUMMARY:腸・脳スッキリクラス体験
DESCRIPTION:腸・脳スッキリクラス体験 \n腸は免疫力の要です。腸の免疫システムは、人体の80％近くの免疫力を担っているといわれます。\n薬に頼らず、呼吸法と体操、腸ほぐしで腸の働きを助けるレッスンです。胃腸の調子が悪い方も是非どうぞ。\n体験費3000円(インターネット予約で1000円引）\nイベントのご予約はこちら
URL:https://ilchibrainyoga-takarazuka.com/event/%e8%85%b8%e3%83%bb%e8%84%b3%e3%82%b9%e3%83%83%e3%82%ad%e3%83%aa%e3%82%af%e3%83%a9%e3%82%b9%e4%bd%93%e9%a8%93-3/
CATEGORIES:イベント,ワークショップ
END:VEVENT
BEGIN:VEVENT
DTSTART;TZID=Asia/Tokyo:20190126T101000
DTEND;TZID=Asia/Tokyo:20190126T114000
DTSTAMP:20260426T003927
CREATED:20190119T091531Z
LAST-MODIFIED:20191126T121240Z
UID:625-1548497400-1548502800@ilchibrainyoga-takarazuka.com
SUMMARY:腸・脳スッキリクラス体験
DESCRIPTION:腸・脳スッキリクラス体験 \n腸は免疫力の要です。腸の免疫システムは、人体の80％近くの免疫力を担っているといわれます。\n薬に頼らず、呼吸法と体操、腸ほぐしで腸の働きを助けるレッスンです。胃腸の調子が悪い方も是非どうぞ。\n体験費3000円(インターネット予約で1000円引）\nイベントのご予約はこちら
URL:https://ilchibrainyoga-takarazuka.com/event/%e8%85%b8%e3%83%bb%e8%84%b3%e3%82%b9%e3%83%83%e3%82%ad%e3%83%aa%e3%82%af%e3%83%a9%e3%82%b9%e4%bd%93%e9%a8%93-2/
LOCATION:イルチブレインヨガ宝塚スタジオ\, 宝塚市堺町1－19－14　ワールドターンビル3階
CATEGORIES:イベント,ワークショップ
END:VEVENT
BEGIN:VEVENT
DTSTART;TZID=Asia/Tokyo:20190123T180000
DTEND;TZID=Asia/Tokyo:20190123T193000
DTSTAMP:20260426T003927
CREATED:20190122T132747Z
LAST-MODIFIED:20190122T132747Z
UID:648-1548266400-1548271800@ilchibrainyoga-takarazuka.com
SUMMARY:ストレスリリースクラス体験
DESCRIPTION:ストレスリリースクラス体験 \n疾病の80％以上が心因性といわれるほど「ストレスは万病のもと」。ストレスは内臓にも影響を与えます。体を通して自分のストレス度をチェックし、基本の呼吸でリリースするクラスです。\n忙しくて自分のための時間をとってこなかった方、ストレスを自覚されている方におすすめです。 \n体験費3000円(インターネット予約で1000円引）\nイベントのご予約はこちら
URL:https://ilchibrainyoga-takarazuka.com/event/%e3%82%b9%e3%83%88%e3%83%ac%e3%82%b9%e3%83%aa%e3%83%aa%e3%83%bc%e3%82%b9%e3%82%af%e3%83%a9%e3%82%b9%e4%bd%93%e9%a8%93/
LOCATION:イルチブレインヨガ宝塚スタジオ\, 宝塚市堺町1－19－14　ワールドターンビル3階
CATEGORIES:ワークショップ
END:VEVENT
BEGIN:VEVENT
DTSTART;TZID=Asia/Tokyo:20190123T101000
DTEND;TZID=Asia/Tokyo:20190123T114000
DTSTAMP:20260426T003927
CREATED:20190119T091129Z
LAST-MODIFIED:20191126T121138Z
UID:621-1548238200-1548243600@ilchibrainyoga-takarazuka.com
SUMMARY:腸・脳スッキリクラス体験
DESCRIPTION:腸・脳スッキリクラス体験 \n腸は免疫力の要です。腸の免疫システムは、人体の80％近くの免疫力を担っているといわれます。\n薬に頼らず、呼吸法と体操、腸ほぐしで腸の働きを助けるレッスンです。胃腸の調子が悪い方も是非どうぞ。\n体験費3000円(インターネット予約で1000円引）\nイベントのご予約はこちら
URL:https://ilchibrainyoga-takarazuka.com/event/%e8%85%b8%e3%83%bb%e8%84%b3%e3%82%b9%e3%83%83%e3%82%ad%e3%83%aa%e3%82%af%e3%83%a9%e3%82%b9%e4%bd%93%e9%a8%93/
CATEGORIES:イベント,ワークショップ
END:VEVENT
BEGIN:VEVENT
DTSTART;TZID=Asia/Tokyo:20190117T140000
DTEND;TZID=Asia/Tokyo:20190117T153000
DTSTAMP:20260426T003927
CREATED:20181226T121827Z
LAST-MODIFIED:20181229T122152Z
UID:593-1547733600-1547739000@ilchibrainyoga-takarazuka.com
SUMMARY:体からのサインをキャッチしよう。「自己ヒーリング体験ワークショップ」
DESCRIPTION:体からのサインをキャッチしよう。「自己ヒーリング体験ワークショップ」\n \n開催日時：2019年1月17日(木)　2:00 PM – 3:30 PM\n場所：　南口会館(阪急宝塚南駅徒歩2分、サンビオラ5番館3階） \n内容：体の疲れやストレスの状態は体の反応に現れます。\n　　　簡単なエクササイズと、手足のツボ押しで、自分に必要なヒーリングポイントを探します。\n　　　健康の自己管理方法を体験してみましょう。 \n問合せ電話：　0797－86－0191\nトレーナー：　高木　桂子\nその他：動きやすい服と靴でお越しください。\nイベントのご予約はこちら
URL:https://ilchibrainyoga-takarazuka.com/event/%e4%bd%93%e3%81%8b%e3%82%89%e3%81%ae%e3%82%b5%e3%82%a4%e3%83%b3%e3%82%92%e3%82%ad%e3%83%a3%e3%83%83%e3%83%81%e3%81%97%e3%82%88%e3%81%86%e3%80%82%e3%80%8c%e8%87%aa%e5%b7%b1%e3%83%92%e3%83%bc%e3%83%aa-3/
LOCATION:南口会館\, 南口2丁目14番5－3　サンビオラ5番館3階\, 宝塚市\, 兵庫県
CATEGORIES:ワークショップ
END:VEVENT
BEGIN:VEVENT
DTSTART;TZID=Asia/Tokyo:20190112T140000
DTEND;TZID=Asia/Tokyo:20190112T151500
DTSTAMP:20260426T003927
CREATED:20181226T120718Z
LAST-MODIFIED:20181226T121450Z
UID:577-1547301600-1547306100@ilchibrainyoga-takarazuka.com
SUMMARY:体からのサインをキャッチしよう「自己ヒーリング体験ワークショップ」
DESCRIPTION:体からのサインをキャッチしよう。「自己ヒーリング体験ワークショップ」\n \n開催日時：2019年1月12日(土)、2月2日(土)、3月2日(土)\n　　　　　各日とも　2:00 PM – 3:15 PM  \n内容：体の疲れやストレスの状態は体の反応に現れます。\n　　　簡単なエクササイズと、手足のツボ押しで、自分に必要なヒーリングポイントを探します。\n　　　健康の自己管理方法を体験してみましょう。 \n問合せ電話：　0797－86－0191\nトレーナー：　岩田　郁子\nその他：動きやすい服と靴でお越しください。\nイベントのご予約はこちら
URL:https://ilchibrainyoga-takarazuka.com/event/%e7%97%9b%e3%81%bf%e3%81%af%e4%bd%93%e3%81%8b%e3%82%89%e3%81%ae%e3%82%b5%e3%82%a4%e3%83%b3%e3%80%8c%e8%87%aa%e5%b7%b1%e3%83%92%e3%83%bc%e3%83%aa%e3%83%b3%e3%82%b0%e4%bd%93%e9%a8%93%e3%83%af%e3%83%bc/
LOCATION:山本会館　集会室２（あいあいパーク内）\, 兵庫県宝塚市山本東2-2-1\, 宝塚市\, 兵庫県\, 665-0881
CATEGORIES:ワークショップ
END:VEVENT
BEGIN:VEVENT
DTSTART;TZID=Asia/Tokyo:20181222T140000
DTEND;TZID=Asia/Tokyo:20181222T151500
DTSTAMP:20260426T003927
CREATED:20181122T115601Z
LAST-MODIFIED:20181122T115601Z
UID:562-1545487200-1545491700@ilchibrainyoga-takarazuka.com
SUMMARY:「腸活で脳活」かんたんトレーニング体験会　
DESCRIPTION:「腸活で脳活」かんたんトレーニング体験会　 \n簡単な体操と呼吸だけで、腸をほぐし脳を活性化させます。\n体が温まりリラックス効果も。お気軽に体験下さい。 \n \n2018年12月22日(土）14時～15時15分 \n場　所　山本会館（宝塚市山本東2-2-1　あいあいパーク 2F　） \n講　師　岩田　郁子 \n服　装　動きやすい服装、動きやすい靴でお越しください。 \n申し込み・問い合わせ　イルチブレインヨガ宝塚スタジオ　　０７９７－８６－０１９１ \nイベントのご予約はこちら
URL:https://ilchibrainyoga-takarazuka.com/event/%e3%80%8c%e8%85%b8%e6%b4%bb%e3%81%a7%e8%84%b3%e6%b4%bb%e3%80%8d%e3%81%8b%e3%82%93%e3%81%9f%e3%82%93%e3%83%88%e3%83%ac%e3%83%bc%e3%83%8b%e3%83%b3%e3%82%b0%e4%bd%93%e9%a8%93%e4%bc%9a%e3%80%80-2/
LOCATION:山本会館　集会室１\, 山本東2-2-1　あいあいパーク 2F\, 宝塚\, 兵庫県
CATEGORIES:イベント,ワークショップ
END:VEVENT
BEGIN:VEVENT
DTSTART;TZID=Asia/Tokyo:20181206T100000
DTEND;TZID=Asia/Tokyo:20181206T113000
DTSTAMP:20260426T003927
CREATED:20181206T010058Z
LAST-MODIFIED:20181122T115826Z
UID:549-1544090400-1544095800@ilchibrainyoga-takarazuka.com
SUMMARY:「腸活で脳活」かんたんトレーニング体験会　
DESCRIPTION:「腸活で脳活」かんたんトレーニング体験会　 \n簡単な体操と呼吸だけで、腸をほぐし脳を活性化させます。\n体が温まりリラックス効果も。お気軽に体験下さい。 \n \n2018年12月6日(木）10時～11時30分 \n2019年1月17日(木)　14時～15時30分 \n場　所　南口会館（宝塚市南口2丁目14番5－3号　サンビオラ5番館3階） \n講　師　岩田　郁子 \n服　装　動きやすい服装、動きやすい靴でお越しください。 \n申し込み・問い合わせ　イルチブレインヨガ宝塚スタジオ　　０７９７－８６－０１９１ \nイベントのご予約はこちら
URL:https://ilchibrainyoga-takarazuka.com/event/%e3%80%8c%e8%85%b8%e6%b4%bb%e3%81%a7%e8%84%b3%e6%b4%bb%e3%80%8d%e3%81%8b%e3%82%93%e3%81%9f%e3%82%93%e3%83%88%e3%83%ac%e3%83%bc%e3%83%8b%e3%83%b3%e3%82%b0%e4%bd%93%e9%a8%93%e4%bc%9a%e3%80%80/
CATEGORIES:イベント,ワークショップ
END:VEVENT
BEGIN:VEVENT
DTSTART;TZID=Asia/Tokyo:20181123T100000
DTEND;TZID=Asia/Tokyo:20181228T200000
DTSTAMP:20260426T003927
CREATED:20181120T130755Z
LAST-MODIFIED:20191126T122747Z
UID:555-1542967200-1546027200@ilchibrainyoga-takarazuka.com
SUMMARY:腸活ヨガ体験会
DESCRIPTION:今話題の「腸活」を始めませんか?\nイルチブレインヨガでは、腸運動、丹田呼吸法、へそヒーリングなど、\n腸活性化のためのエクササイズがふんだんに取り入れられています。 \nその理由は、「腸は第2の脳」と言われるほど、\n脳のコンディションと深くかかわっているからです。\n「腸活性」は「脳活性」のために、とても大事です。 \n腸の活性化が、体の健康、心の安定、深いリラックスにつながっていることを\nぜひ一度体験下さい。\nお待ちしております。\n\n体験可能日\n2018年11月24日～12月28日（月・祝休み） \n体験可能時間帯\n10時～、14時～、18時～、20時～(火木のみ）\n（各回約120分、定員2名、要予約） \n体験費　2000円(税込） \n申し込み、問い合わせ　０７９７－８６－０１９１ \nイベントのご予約はこちら
URL:https://ilchibrainyoga-takarazuka.com/event/%e8%85%b8%e6%b4%bb%e3%83%a8%e3%82%ac%e4%bd%93%e9%a8%93%e4%bc%9a/
LOCATION:イルチブレインヨガ宝塚スタジオ\, 宝塚市堺町1－19－14　ワールドターンビル3階
CATEGORIES:イベント,ワークショップ
END:VEVENT
BEGIN:VEVENT
DTSTART;TZID=Asia/Tokyo:20180711T140000
DTEND;TZID=Asia/Tokyo:20180711T153000
DTSTAMP:20260426T003927
CREATED:20180604T132915Z
LAST-MODIFIED:20191126T122306Z
UID:518-1531317600-1531323000@ilchibrainyoga-takarazuka.com
SUMMARY:人生120年時代を生きる　自己管理セミナー
DESCRIPTION:人生120年といわれる時代、死ぬまで活き活きと年を重ねていくために\n今からできることは何でしょうか。\nご自分の人生やこれまでの習慣を眺め、\nまた、人生の意味と価値を高めて\n体・心・脳を健康に保つトレーニングをご紹介します。\n\nこんな方におすすめです。\n□　素敵に年を重ねたい。\n□　自分の本当の願いや求めている生き方を知りたい。\n□　退職後、子育て後、自分の時間を有意義に過ごしたい。\n□　死ぬまで健康でいられる習慣を身につけたい。 \n6月27日(水）19時30分~21時\n6月28日(木）16時30分~18時\n7月11日(水)14時00分~15時30分 \n参加費2000円(税込)　※2回目以降の方は1000円\n定員8名。要予約 \n問合せ、申込　イルチブレインヨガ宝塚スタジオ　\n０７９７－８６－０１９１\nilchibrtakarazuka@gmail.com
URL:https://ilchibrainyoga-takarazuka.com/event/%e4%ba%ba%e7%94%9f120%e5%b9%b4%e6%99%82%e4%bb%a3%e3%82%92%e7%94%9f%e3%81%8d%e3%82%8b%e3%80%80%e8%87%aa%e5%b7%b1%e7%ae%a1%e7%90%86%e3%82%bb%e3%83%9f%e3%83%8a%e3%83%bc-2/
LOCATION:イルチブレインヨガ宝塚スタジオ\, 宝塚市堺町1－19－14　ワールドターンビル3階
CATEGORIES:ワークショップ
END:VEVENT
BEGIN:VEVENT
DTSTART;TZID=Asia/Tokyo:20180628T043000
DTEND;TZID=Asia/Tokyo:20180628T180000
DTSTAMP:20260426T003927
CREATED:20180604T132715Z
LAST-MODIFIED:20191126T121540Z
UID:515-1530160200-1530208800@ilchibrainyoga-takarazuka.com
SUMMARY:人生120年時代を生きる　自己管理セミナー
DESCRIPTION:人生120年といわれる時代、死ぬまで活き活きと年を重ねていくために\n今からできることは何でしょうか。\nご自分の人生やこれまでの習慣を眺め、\nまた、人生の意味と価値を高めて\n体・心・脳を健康に保つトレーニングをご紹介します。\n\nこんな方におすすめです。\n□　素敵に年を重ねたい。\n□　自分の本当の願いや求めている生き方を知りたい。\n□　退職後、子育て後、自分の時間を有意義に過ごしたい。\n□　死ぬまで健康でいられる習慣を身につけたい。 \n6月27日(水）19時30分~21時\n6月28日(木）16時30分~18時\n7月11日(水)14時00分~15時30分 \n参加費2000円(税込)　※2回目以降の方は1000円\n定員8名。要予約 \n問合せ、申込　イルチブレインヨガ宝塚スタジオ　\n０７９７－８６－０１９１\nilchibrtakarazuka@gmail.com
URL:https://ilchibrainyoga-takarazuka.com/event/%e4%ba%ba%e7%94%9f120%e5%b9%b4%e6%99%82%e4%bb%a3%e3%82%92%e7%94%9f%e3%81%8d%e3%82%8b%e3%80%80%e8%87%aa%e5%b7%b1%e7%ae%a1%e7%90%86%e3%82%bb%e3%83%9f%e3%83%8a%e3%83%bc/
LOCATION:イルチブレインヨガ宝塚スタジオ\, 宝塚市堺町1－19－14　ワールドターンビル3階
END:VEVENT
BEGIN:VEVENT
DTSTART;TZID=Asia/Tokyo:20180628T020000
DTEND;TZID=Asia/Tokyo:20180628T163000
DTSTAMP:20260426T003927
CREATED:20180604T125929Z
LAST-MODIFIED:20180604T125929Z
UID:509-1530151200-1530203400@ilchibrainyoga-takarazuka.com
SUMMARY:腸を元気に!実践講座
DESCRIPTION:健康の要は腸だった！\n\n最近テレビなどでもよく特集されていますが、\n腸内環境や便通の状態は、体の健康、感情的な安定とも密接にかかわっていることがわかってきました。\n腸と脳も迷走神経という神経網で直接つながっています。\n腸と健康のかかわりを少し勉強して、腸を活性化する体操、おへそ周りをほぐすマッサージを体験してみます。\n覚えて毎日少しずつ続ければ、\n免疫力アップ、便秘解消、血行促進、腰痛改善、美肌効果、そして自律神経の働きも整えます。 \n記\n日時　2018年6月7日(木）、14日(木）、21日(木）28日(木）14時10分~15時40分 \n内　容　・腸と脳と健康のお話\n　　　　・腸ほぐし体操＆へそヒーリング \n講　師　高木桂子、岩田郁子（ブレイントレーナー1級、へそトレーナー） \n参加費　1回1000円(税込） \n場所・申込先　イルチブレインヨガ宝塚スタジオ\n　　　　　　０７９７－８６－０１９１\n　　　　　　宝塚市栄町1－19－14　ワールドターンビル3階
URL:https://ilchibrainyoga-takarazuka.com/event/%e8%85%b8%e3%82%92%e5%85%83%e6%b0%97%e3%81%ab%e5%ae%9f%e8%b7%b5%e8%ac%9b%e5%ba%a7-4/
LOCATION:イルチブレインヨガ宝塚スタジオ\, 宝塚市堺町1－19－14　ワールドターンビル3階
CATEGORIES:ワークショップ
END:VEVENT
BEGIN:VEVENT
DTSTART;TZID=Asia/Tokyo:20180627T193000
DTEND;TZID=Asia/Tokyo:20180627T210000
DTSTAMP:20260426T003927
CREATED:20180604T132523Z
LAST-MODIFIED:20180604T132949Z
UID:513-1530127800-1530133200@ilchibrainyoga-takarazuka.com
SUMMARY:人生120年時代を生きる自己管理セミナー
DESCRIPTION:人生120年といわれる時代、死ぬまで活き活きと年を重ねていくために\n今からできることは何でしょうか。\nご自分の人生やこれまでの習慣を眺め、\nまた、人生の意味と価値を高めて\n体・心・脳を健康に保つトレーニングをご紹介します。\n\nこんな方におすすめです。\n□　素敵に年を重ねたい。\n□　自分の本当の願いや求めている生き方を知りたい。\n□　退職後、子育て後、自分の時間を有意義に過ごしたい。\n□　死ぬまで健康でいられる習慣を身につけたい。 \n6月27日(水）19時30分~21時\n6月28日(木）16時30分~18時\n7月11日(水)14時00分~15時30分 \n参加費2000円(税込)　※2回目以降の方は1000円\n定員8名。要予約 \n問合せ、申込　イルチブレインヨガ宝塚スタジオ　\n０７９７－８６－０１９１\nilchibrtakarazuka@gmail.com
URL:https://ilchibrainyoga-takarazuka.com/event/%e4%ba%ba%e7%94%9f120%e5%b9%b4%e6%99%82%e4%bb%a3%e3%82%92%e7%94%9f%e3%81%8d%e3%82%8b%e8%87%aa%e5%b7%b1%e7%ae%a1%e7%90%86%e3%82%bb%e3%83%9f%e3%83%8a%e3%83%bc/
LOCATION:イルチブレインヨガ宝塚スタジオ\, 宝塚市堺町1－19－14　ワールドターンビル3階
CATEGORIES:ワークショップ
END:VEVENT
BEGIN:VEVENT
DTSTART;TZID=Asia/Tokyo:20180621T020000
DTEND;TZID=Asia/Tokyo:20180621T163000
DTSTAMP:20260426T003927
CREATED:20180604T125747Z
LAST-MODIFIED:20180604T125821Z
UID:507-1529546400-1529598600@ilchibrainyoga-takarazuka.com
SUMMARY:腸を元気に!実践講座
DESCRIPTION:健康の要は腸だった！\n\n最近テレビなどでもよく特集されていますが、\n腸内環境や便通の状態は、体の健康、感情的な安定とも密接にかかわっていることがわかってきました。\n腸と脳も迷走神経という神経網で直接つながっています。\n腸と健康のかかわりを少し勉強して、腸を活性化する体操、おへそ周りをほぐすマッサージを体験してみます。\n覚えて毎日少しずつ続ければ、\n免疫力アップ、便秘解消、血行促進、腰痛改善、美肌効果、そして自律神経の働きも整えます。 \n記\n日時　2018年6月7日(木）、14日(木）、21日(木）28日(木）14時10分~15時40分 \n内　容　・腸と脳と健康のお話\n　　　　・腸ほぐし体操＆へそヒーリング \n講　師　高木桂子、岩田郁子（ブレイントレーナー1級、へそトレーナー） \n参加費　1回1000円(税込） \n場所・申込先　イルチブレインヨガ宝塚スタジオ\n　　　　　　０７９７－８６－０１９１\n　　　　　　宝塚市栄町1－19－14　ワールドターンビル3階
URL:https://ilchibrainyoga-takarazuka.com/event/%e8%85%b8%e3%82%92%e5%85%83%e6%b0%97%e3%81%ab%e5%ae%9f%e8%b7%b5%e8%ac%9b%e5%ba%a7-3/
CATEGORIES:ワークショップ
END:VEVENT
BEGIN:VEVENT
DTSTART;TZID=Asia/Tokyo:20180614T140000
DTEND;TZID=Asia/Tokyo:20180614T163000
DTSTAMP:20260426T003927
CREATED:20180604T125556Z
LAST-MODIFIED:20180604T130005Z
UID:505-1528984800-1528993800@ilchibrainyoga-takarazuka.com
SUMMARY:腸を元気に!実践講座
DESCRIPTION:健康の要は腸だった！\n\n最近テレビなどでもよく特集されていますが、\n腸内環境や便通の状態は、体の健康、感情的な安定とも密接にかかわっていることがわかってきました。\n腸と脳も迷走神経という神経網で直接つながっています。\n腸と健康のかかわりを少し勉強して、腸を活性化する体操、おへそ周りをほぐすマッサージを体験してみます。\n覚えて毎日少しずつ続ければ、\n免疫力アップ、便秘解消、血行促進、腰痛改善、美肌効果、そして自律神経の働きも整えます。 \n記\n日時　2018年6月7日(木）、14日(木）、21日(木）28日(木）14時10分~15時40分 \n内　容　・腸と脳と健康のお話\n　　　　・腸ほぐし体操＆へそヒーリング \n講　師　高木桂子、岩田郁子（ブレイントレーナー1級、へそトレーナー） \n参加費　1回1000円(税込） \n場所・申込先　イルチブレインヨガ宝塚スタジオ\n　　　　　　０７９７－８６－０１９１\n　　　　　　宝塚市栄町1－19－14　ワールドターンビル3階
URL:https://ilchibrainyoga-takarazuka.com/event/%e8%85%b8%e3%82%92%e5%85%83%e6%b0%97%e3%81%ab%e5%ae%9f%e8%b7%b5%e8%ac%9b%e5%ba%a7-2/
CATEGORIES:イベント,ワークショップ
END:VEVENT
END:VCALENDAR