BEGIN:VCALENDAR
VERSION:2.0
PRODID:-//イルチブレインヨガ宝塚スタジオ - ECPv6.15.17.1//NONSGML v1.0//EN
CALSCALE:GREGORIAN
METHOD:PUBLISH
X-ORIGINAL-URL:https://ilchibrainyoga-takarazuka.com
X-WR-CALDESC:イルチブレインヨガ宝塚スタジオ のイベント
REFRESH-INTERVAL;VALUE=DURATION:PT1H
X-Robots-Tag:noindex
X-PUBLISHED-TTL:PT1H
BEGIN:VTIMEZONE
TZID:Asia/Tokyo
BEGIN:STANDARD
TZOFFSETFROM:+0900
TZOFFSETTO:+0900
TZNAME:JST
DTSTART:20130101T000000
END:STANDARD
END:VTIMEZONE
BEGIN:VEVENT
DTSTART;TZID=Asia/Tokyo:20150621T100000
DTEND;TZID=Asia/Tokyo:20150621T120000
DTSTAMP:20260426T010851
CREATED:20150613T115308Z
LAST-MODIFIED:20191126T134134Z
UID:165-1434880800-1434888000@ilchibrainyoga-takarazuka.com
SUMMARY:地球市民オープンクラス
DESCRIPTION:イルチブレインヨガは一般社団法人地球市民学校が行っておられる \n「地球市民になろう」アクションを応援しています。 \n自然治癒力回復運動をヨガのレッスンとしてサポート。 \n賛助会員になられた皆さんは、全国のイルチブレインヨガスタジオで \nオープンクラスを受講できます。 \nご参加の際には、お電話でご予約いただき、 \n賛助会員になられたときにプレゼントした「オープンクラス参加回数券」をお持ちくださいね。 \nお待ちしています。
URL:https://ilchibrainyoga-takarazuka.com/event/%e5%9c%b0%e7%90%83%e5%b8%82%e6%b0%91%e3%82%aa%e3%83%bc%e3%83%97%e3%83%b3%e3%82%af%e3%83%a9%e3%82%b9-3/
LOCATION:イルチブレインヨガ宝塚スタジオ\, 宝塚市堺町1－19－14　ワールドターンビル3階
END:VEVENT
BEGIN:VEVENT
DTSTART;TZID=Asia/Tokyo:20150620T100000
DTEND;TZID=Asia/Tokyo:20150620T120000
DTSTAMP:20260426T010851
CREATED:20150613T114605Z
LAST-MODIFIED:20191126T134309Z
UID:161-1434794400-1434801600@ilchibrainyoga-takarazuka.com
SUMMARY:お父さん体験無料デー
DESCRIPTION:土日限定、お父さん限定、体験無料です。 \n90分の一般クラスで、代謝アップ、体幹が鍛えられるイルチブレインヨガを体験してみませんか？ \n全て10時半~12時です。 \nご予約は　０７９７－８６－０１９１ \nilchibrtakarazuka@gmail.com \n 
URL:https://ilchibrainyoga-takarazuka.com/event/%e3%81%8a%e7%88%b6%e3%81%95%e3%82%93%e4%bd%93%e9%a8%93%e7%84%a1%e6%96%99%e3%83%87%e3%83%bc/
LOCATION:イルチブレインヨガ宝塚スタジオ\, 宝塚市堺町1－19－14　ワールドターンビル3階
END:VEVENT
BEGIN:VEVENT
DTSTART;TZID=Asia/Tokyo:20150616T140000
DTEND;TZID=Asia/Tokyo:20150616T140000
DTSTAMP:20260426T010851
CREATED:20150613T115217Z
LAST-MODIFIED:20191126T134406Z
UID:164-1434463200-1434463200@ilchibrainyoga-takarazuka.com
SUMMARY:地球市民オープンクラス
DESCRIPTION:イルチブレインヨガは一般社団法人地球市民学校が行っておられる \n「地球市民になろう」アクションを応援しています。 \n自然治癒力回復運動をヨガのレッスンとしてサポート。 \n賛助会員になられた皆さんは、全国のイルチブレインヨガスタジオで \nオープンクラスを受講できます。 \nご参加の際には、お電話でご予約いただき、 \n賛助会員になられたときにプレゼントした「オープンクラス参加回数券」をお持ちくださいね。 \nお待ちしています。
URL:https://ilchibrainyoga-takarazuka.com/event/%e5%9c%b0%e7%90%83%e5%b8%82%e6%b0%91%e3%82%aa%e3%83%bc%e3%83%97%e3%83%b3%e3%82%af%e3%83%a9%e3%82%b9-2/
LOCATION:イルチブレインヨガ宝塚スタジオ\, 宝塚市堺町1－19－14　ワールドターンビル3階
END:VEVENT
BEGIN:VEVENT
DTSTART;TZID=Asia/Tokyo:20150616T100000
DTEND;TZID=Asia/Tokyo:20150616T100000
DTSTAMP:20260426T010851
CREATED:20150613T115128Z
LAST-MODIFIED:20150613T115128Z
UID:163-1434448800-1434448800@ilchibrainyoga-takarazuka.com
SUMMARY:地球市民オープンクラス
DESCRIPTION:イルチブレインヨガは一般社団法人地球市民学校が行っておられる \n「地球市民になろう」アクションを応援しています。 \n自然治癒力回復運動をヨガのレッスンとしてサポート。 \n賛助会員になられた皆さんは、全国のイルチブレインヨガスタジオで \nオープンクラスを受講できます。 \nご参加の際には、お電話でご予約いただき、 \n賛助会員になられたときにプレゼントした「オープンクラス参加回数券」をお持ちくださいね。 \nお待ちしています。 \n 
URL:https://ilchibrainyoga-takarazuka.com/event/%e5%9c%b0%e7%90%83%e5%b8%82%e6%b0%91%e3%82%aa%e3%83%bc%e3%83%97%e3%83%b3%e3%82%af%e3%83%a9%e3%82%b9/
END:VEVENT
BEGIN:VEVENT
DTSTART;TZID=Asia/Tokyo:20150614T103000
DTEND;TZID=Asia/Tokyo:20150614T120000
DTSTAMP:20260426T010851
CREATED:20150613T114351Z
LAST-MODIFIED:20191126T134514Z
UID:160-1434277800-1434283200@ilchibrainyoga-takarazuka.com
SUMMARY:お父さん体験無料！
DESCRIPTION:6月は父の日にちなんで、 \n土日限定、お父さん限定、体験無料です。 \n90分の一般クラスで、代謝アップ、体幹が鍛えられるイルチブレインヨガを体験してみませんか？ \n全て10時半~12時です。 \nご予約は　０７９７－８６－０１９１ \nilchibrtakarazuka@gmail.com \n 
URL:https://ilchibrainyoga-takarazuka.com/event/%e3%81%8a%e7%88%b6%e3%81%95%e3%82%93%e4%bd%93%e9%a8%93%e7%84%a1%e6%96%99%ef%bc%81/
LOCATION:イルチブレインヨガ宝塚スタジオ\, 宝塚市堺町1－19－14　ワールドターンビル3階
END:VEVENT
BEGIN:VEVENT
DTSTART;TZID=Asia/Tokyo:20150428T100000
DTEND;TZID=Asia/Tokyo:20150428T154000
DTSTAMP:20260426T010851
CREATED:20150328T074213Z
LAST-MODIFIED:20191126T134642Z
UID:155-1430215200-1430235600@ilchibrainyoga-takarazuka.com
SUMMARY:ヨガの日　体験レッスン500円デー
DESCRIPTION:4と8の付く日はヨガの日。 \n一般クラス90分体験が500円です。（通常3000円） \n皆さんの体力に合わせて調整しますので、 \n初めての方もお気軽におこしくださいね
URL:https://ilchibrainyoga-takarazuka.com/event/%e3%83%a8%e3%82%ac%e3%81%ae%e6%97%a5%e3%80%80%e4%bd%93%e9%a8%93%e3%83%ac%e3%83%83%e3%82%b9%e3%83%b3500%e5%86%86%e3%83%87%e3%83%bc-4/
LOCATION:イルチブレインヨガ宝塚スタジオ\, 宝塚市堺町1－19－14　ワールドターンビル3階
END:VEVENT
BEGIN:VEVENT
DTSTART;TZID=Asia/Tokyo:20150424T100000
DTEND;TZID=Asia/Tokyo:20150424T203000
DTSTAMP:20260426T010851
CREATED:20150328T074032Z
LAST-MODIFIED:20191126T134726Z
UID:154-1429869600-1429907400@ilchibrainyoga-takarazuka.com
SUMMARY:ヨガの日　体験レッスン500円デ―
DESCRIPTION:4と8の付く日はヨガの日。 \n一般クラス90分体験が500円です。（通常3000円） \n皆さんの体力に合わせて調整しますので、 \n初めての方もお気軽におこしくださいね
URL:https://ilchibrainyoga-takarazuka.com/event/%e3%83%a8%e3%82%ac%e3%81%ae%e6%97%a5%e3%80%80%e4%bd%93%e9%a8%93%e3%83%ac%e3%83%83%e3%82%b9%e3%83%b3500%e5%86%86%e3%83%87%e2%80%95/
LOCATION:イルチブレインヨガ宝塚スタジオ\, 宝塚市堺町1－19－14　ワールドターンビル3階
END:VEVENT
BEGIN:VEVENT
DTSTART;TZID=Asia/Tokyo:20150418T100000
DTEND;TZID=Asia/Tokyo:20150418T120000
DTSTAMP:20260426T010851
CREATED:20150328T073932Z
LAST-MODIFIED:20191126T134800Z
UID:153-1429351200-1429358400@ilchibrainyoga-takarazuka.com
SUMMARY:ヨガの日　体験レッスン500円デー
DESCRIPTION:4と8の付く日はヨガの日。 \n一般クラス90分体験が500円です。（通常3000円） \n皆さんの体力に合わせて調整しますので、 \n初めての方もお気軽におこしくださいね
URL:https://ilchibrainyoga-takarazuka.com/event/%e3%83%a8%e3%82%ac%e3%81%ae%e6%97%a5%e3%80%80%e4%bd%93%e9%a8%93%e3%83%ac%e3%83%83%e3%82%b9%e3%83%b3500%e5%86%86%e3%83%87%e3%83%bc-3/
LOCATION:イルチブレインヨガ宝塚スタジオ\, 宝塚市堺町1－19－14　ワールドターンビル3階
CATEGORIES:キャンペーン
END:VEVENT
BEGIN:VEVENT
DTSTART;TZID=Asia/Tokyo:20150414T100000
DTEND;TZID=Asia/Tokyo:20150414T203000
DTSTAMP:20260426T010851
CREATED:20150328T073833Z
LAST-MODIFIED:20191126T134840Z
UID:152-1429005600-1429043400@ilchibrainyoga-takarazuka.com
SUMMARY:ヨガの日　体験レッスン500円デー
DESCRIPTION:4と8の付く日はヨガの日。 \n一般クラス90分体験が500円です。（通常3000円） \n皆さんの体力に合わせて調整しますので、 \n初めての方もお気軽におこしくださいね
URL:https://ilchibrainyoga-takarazuka.com/event/%e3%83%a8%e3%82%ac%e3%81%ae%e6%97%a5%e3%80%80%e4%bd%93%e9%a8%93%e3%83%ac%e3%83%83%e3%82%b9%e3%83%b3500%e5%86%86%e3%83%87%e3%83%bc-2/
LOCATION:イルチブレインヨガ宝塚スタジオ\, 宝塚市堺町1－19－14　ワールドターンビル3階
END:VEVENT
BEGIN:VEVENT
DTSTART;TZID=Asia/Tokyo:20150408T100000
DTEND;TZID=Asia/Tokyo:20150408T154000
DTSTAMP:20260426T010851
CREATED:20150328T073739Z
LAST-MODIFIED:20191126T134936Z
UID:150-1428487200-1428507600@ilchibrainyoga-takarazuka.com
SUMMARY:ヨガの日　体験レッスン500円
DESCRIPTION:4と8の付く日はヨガの日。 \n一般クラス90分体験が500円です。（通常3000円） \n皆さんの体力に合わせて調整しますので、 \n初めての方もお気軽におこしくださいね
URL:https://ilchibrainyoga-takarazuka.com/event/%e3%83%a8%e3%82%ac%e3%81%ae%e6%97%a5%e3%80%80%e4%bd%93%e9%a8%93%e3%83%ac%e3%83%83%e3%82%b9%e3%83%b3500%e5%86%86/
LOCATION:イルチブレインヨガ宝塚スタジオ\, 宝塚市堺町1－19－14　ワールドターンビル3階
CATEGORIES:キャンペーン
END:VEVENT
BEGIN:VEVENT
DTSTART;TZID=Asia/Tokyo:20150404T100000
DTEND;TZID=Asia/Tokyo:20150404T203000
DTSTAMP:20260426T010851
CREATED:20150328T073458Z
LAST-MODIFIED:20191126T135028Z
UID:149-1428141600-1428179400@ilchibrainyoga-takarazuka.com
SUMMARY:ヨガの日　体験レッスン500円デー
DESCRIPTION:4と8の付く日はヨガの日。 \n一般クラス90分体験が500円です。（通常3000円） \n皆さんの体力に合わせて調整しますので、 \n初めての方もお気軽におこしくださいね。 \n 
URL:https://ilchibrainyoga-takarazuka.com/event/%e3%83%a8%e3%82%ac%e3%81%ae%e6%97%a5%e3%80%80%e4%bd%93%e9%a8%93%e3%83%ac%e3%83%83%e3%82%b9%e3%83%b3500%e5%86%86%e3%83%87%e3%83%bc/
LOCATION:イルチブレインヨガ宝塚スタジオ\, 宝塚市堺町1－19－14　ワールドターンビル3階
END:VEVENT
BEGIN:VEVENT
DTSTART;TZID=Asia/Tokyo:20150329T140000
DTEND;TZID=Asia/Tokyo:20150329T160000
DTSTAMP:20260426T010851
CREATED:20150328T065808Z
LAST-MODIFIED:20150328T065907Z
UID:139-1427637600-1427644800@ilchibrainyoga-takarazuka.com
SUMMARY:腸に効く！１０のポーズ体験＆腸を元気にするおやつタイム
DESCRIPTION:腸に効く！１０のポーズ体験＆腸を元気にするおやつタイム \nご希望の方に無料5分間　腸セラピー付き \n体質改善、ダイエットなどのカギを握ると話題の「腸内フローラ(腸内細菌)」。腸内環境を活性化させる１０のポーズで腸のむくみをとりましょう。 \n記 \n日　時　 3月29日（日）14時～16時 \n持ち物　　お腹周りが楽なパンツ　(更衣室あります) \n参加費　　１０００円(税込) 　　各回定員６名様 \n場　所　　イルチブレインヨガ宝塚スタジオ \n宝塚市栄町1-19-14ワールドターンビル３階（１階焼鳥「あみや」さん） \n申込み　０７９７－８６－０１９１　　担当：岩田
URL:https://ilchibrainyoga-takarazuka.com/event/%e8%85%b8%e3%81%ab%e5%8a%b9%e3%81%8f%ef%bc%81%ef%bc%91%ef%bc%90%e3%81%ae%e3%83%9d%e3%83%bc%e3%82%ba%e4%bd%93%e9%a8%93%ef%bc%86%e8%85%b8%e3%82%92%e5%85%83%e6%b0%97%e3%81%ab%e3%81%99%e3%82%8b%e3%81%8a/
CATEGORIES:ワークショップ
END:VEVENT
BEGIN:VEVENT
DTSTART;TZID=Asia/Tokyo:20150131T140000
DTEND;TZID=Asia/Tokyo:20150131T160000
DTSTAMP:20260426T010851
CREATED:20150115T084006Z
LAST-MODIFIED:20191126T135157Z
UID:122-1422712800-1422720000@ilchibrainyoga-takarazuka.com
SUMMARY:自分を変えるチカラ、映画『CHANGE』上映と引き寄せ実践講座
DESCRIPTION:◆内容\n『CHANGE』上映、引き寄せ実践講座（呼吸・マグネティック瞑想） \n◆対象者\n前向きに変わりたい方、体質改善・生活習慣改善・ヤル気向上を望む方 \n◆トレーナー\n岩田郁子チーフトレーナー \n◆ドキュメンタリー映画『CHANGE』上映案内サイト\n\nhttp://change-movie.net/ \n  \nイベントのご予約はこちら
URL:https://ilchibrainyoga-takarazuka.com/event/%e8%87%aa%e5%88%86%e3%82%92%e5%a4%89%e3%81%88%e3%82%8b%e3%83%81%e3%82%ab%e3%83%a9%e3%80%81%e6%98%a0%e7%94%bb%e3%80%8echange%e3%80%8f%e4%b8%8a%e6%98%a0%e3%81%a8%e5%bc%95%e3%81%8d%e5%af%84%e3%81%9b/
LOCATION:イルチブレインヨガ宝塚スタジオ\, 宝塚市堺町1－19－14　ワールドターンビル3階
END:VEVENT
BEGIN:VEVENT
DTSTART;TZID=Asia/Tokyo:20140705T143000
DTEND;TZID=Asia/Tokyo:20140705T163000
DTSTAMP:20260426T010851
CREATED:20140621T073942Z
LAST-MODIFIED:20140621T073942Z
UID:91-1404570600-1404577800@ilchibrainyoga-takarazuka.com
SUMMARY:だれにでもできてかんたん！脳活性化ヨガと呼吸法体験会
DESCRIPTION:◆内容\n健康ミニ講座、ブレイン体操（気血循環を良くします）、\nリズム瞑想（前向きな脳波にチェンジします） 呼吸（体・心・脳をリラックスします） \n◆持ち物\n動きやすい服装、タオル、飲み物 \n◆会場\n宝塚勤労市民センター　和室5　（末広中央公園内）＊コインパーキングあります \n  \nイベントのご予約はこちら
URL:https://ilchibrainyoga-takarazuka.com/event/%e3%81%a0%e3%82%8c%e3%81%ab%e3%81%a7%e3%82%82%e3%81%a7%e3%81%8d%e3%81%a6%e3%81%8b%e3%82%93%e3%81%9f%e3%82%93%ef%bc%81%e8%84%b3%e6%b4%bb%e6%80%a7%e5%8c%96%e3%83%a8%e3%82%ac%e3%81%a8%e5%91%bc%e5%90%b8/
END:VEVENT
END:VCALENDAR