BEGIN:VCALENDAR
VERSION:2.0
PRODID:-//イルチブレインヨガ宝塚スタジオ - ECPv6.15.17.1//NONSGML v1.0//EN
CALSCALE:GREGORIAN
METHOD:PUBLISH
X-WR-CALNAME:イルチブレインヨガ宝塚スタジオ
X-ORIGINAL-URL:https://ilchibrainyoga-takarazuka.com
X-WR-CALDESC:イルチブレインヨガ宝塚スタジオ のイベント
REFRESH-INTERVAL;VALUE=DURATION:PT1H
X-Robots-Tag:noindex
X-PUBLISHED-TTL:PT1H
BEGIN:VTIMEZONE
TZID:Asia/Tokyo
BEGIN:STANDARD
TZOFFSETFROM:+0900
TZOFFSETTO:+0900
TZNAME:JST
DTSTART:20190101T000000
END:STANDARD
END:VTIMEZONE
BEGIN:VEVENT
DTSTART;TZID=Asia/Tokyo:20200315T140000
DTEND;TZID=Asia/Tokyo:20200315T153000
DTSTAMP:20260425T221657
CREATED:20200305T125111Z
LAST-MODIFIED:20200308T123348Z
UID:998-1584280800-1584286200@ilchibrainyoga-takarazuka.com
SUMMARY:オンライン体験会「腸活編」
DESCRIPTION:タイトル：オンライン体験会「腸活編」 \n内容： \nストレスは万病のもと。人間のストレスの多くは、忙しく働き続ける感情や思考の中で作られます。頭の中をいったん静かにし、自分を深く見つめる瞑想は、自分の中から生まれるストレスから離れる、簡単で優れた方法です。イルチブレインヨガの瞑想トレーニングは、集中が苦手な方でもできるように工夫されています。オンラインですので、パソコン、スマホから参加できます。毎日コツコツ、ストレスを溜めない体づくりをしていきましょう！ \n \n開催日：2020年3月15日(日)\n時間：14時～15時30分\n会場名：オンラインにて（申し込みされた方には参加方法をお送りします。）\n参加費：無料 \nトレーナー：こぐれ　ゆうこ \n申し込み：下記予約フォームにてお申込み下さい。（備考欄に「オンライン」とご記入下さい）　↓　↓　↓ \n　　　　https://ilchibrainyoga-takarazuka.com/yoyaku/ \n問合せ電話：０７９７－８６－０１９１
URL:https://ilchibrainyoga-takarazuka.com/event/%e3%82%aa%e3%83%b3%e3%83%a9%e3%82%a4%e3%83%b3%e4%bd%93%e9%a8%93%e4%bc%9a%e3%80%8c%e8%85%b8%e6%b4%bb%e7%b7%a8%e3%80%8d/
LOCATION:オンライン
CATEGORIES:ワークショップ
ATTACH;FMTTYPE=image/jpeg:https://ilchibrainyoga-takarazuka.com/wp-content/uploads/2020/03/IBY_HP_online-class-3.jpg
ORGANIZER;CN="%E3%82%A4%E3%83%AB%E3%83%81%E3%83%96%E3%83%AC%E3%82%A4%E3%83%B3%E3%83%A8%E3%82%AC %E5%AE%9D%E5%A1%9A":MAILTO:ilchibrtakarazuka@gmail.com
END:VEVENT
END:VCALENDAR