BEGIN:VCALENDAR
VERSION:2.0
PRODID:-//イルチブレインヨガ宝塚スタジオ - ECPv6.15.17.1//NONSGML v1.0//EN
CALSCALE:GREGORIAN
METHOD:PUBLISH
X-WR-CALNAME:イルチブレインヨガ宝塚スタジオ
X-ORIGINAL-URL:https://ilchibrainyoga-takarazuka.com
X-WR-CALDESC:イルチブレインヨガ宝塚スタジオ のイベント
REFRESH-INTERVAL;VALUE=DURATION:PT1H
X-Robots-Tag:noindex
X-PUBLISHED-TTL:PT1H
BEGIN:VTIMEZONE
TZID:Asia/Tokyo
BEGIN:STANDARD
TZOFFSETFROM:+0900
TZOFFSETTO:+0900
TZNAME:JST
DTSTART:20200101T000000
END:STANDARD
END:VTIMEZONE
BEGIN:VEVENT
DTSTART;TZID=Asia/Tokyo:20211127T150000
DTEND;TZID=Asia/Tokyo:20211127T160000
DTSTAMP:20260425T212138
CREATED:20211114T052817Z
LAST-MODIFIED:20211114T052817Z
UID:1527-1638025200-1638028800@ilchibrainyoga-takarazuka.com
SUMMARY:健康の体温バランス、水昇火降ワークショップ
DESCRIPTION:水昇火降とは、頭が涼しく、お腹が温かい状態をいいます。\n体に活力が湧き、心が安定しているので、一歩踏み出すことができます。\n\n\n今年最後のワークショップは、水昇火降をテーマにします。興味のある方はぜひお越しください。\nこんな方におすすめです。\n＊疲れやすい\n＊考えてばかりで行動できない\n＊下半身が弱くて冷えている\n＊ストレスがいっぱいで息苦しい \n＝＝＝＝＝＝＝＝＝＝＝＝＝＝＝＝＝＝＝＝＝＝＝＝＝＝＝＝＝＝＝\n★11月のワークショップ★\n「健康の体温バランス　水昇火降になろう！」\n11月19日(金）19時~20時\n11月21日(日）14時~15時\n11月27日(土）15時~16時 \n場所：イルチブレインヨガ宝塚スタジオ（オンライン参加も可能）\n参加費：　各回1000円(税込)\n内容：水昇火降になれない3つのタイプ診断\n　　　水昇火降になるための簡単エクササイズ \n※オンライン参加も可能です。（ZOOM使用）\n※ご予約はこちらからお願いします。\n０７９７－８６－０１９１ \n体験のご予約 \n \n＝＝＝＝＝＝＝＝＝＝＝＝＝＝＝＝＝＝＝＝＝＝＝＝＝＝＝＝＝＝＝
URL:https://ilchibrainyoga-takarazuka.com/event/%e5%81%a5%e5%ba%b7%e3%81%ae%e4%bd%93%e6%b8%a9%e3%83%90%e3%83%a9%e3%83%b3%e3%82%b9%e3%80%81%e6%b0%b4%e6%98%87%e7%81%ab%e9%99%8d%e3%83%af%e3%83%bc%e3%82%af%e3%82%b7%e3%83%a7%e3%83%83%e3%83%97-2/
LOCATION:イルチブレインヨガ宝塚スタジオ\, 宝塚市堺町1－19－14　ワールドターンビル3階
CATEGORIES:オンライン体験会,ワークショップ
ORGANIZER;CN="%E3%82%A4%E3%83%AB%E3%83%81%E3%83%96%E3%83%AC%E3%82%A4%E3%83%B3%E3%83%A8%E3%82%AC %E5%AE%9D%E5%A1%9A":MAILTO:ilchibrtakarazuka@gmail.com
END:VEVENT
BEGIN:VEVENT
DTSTART;TZID=Asia/Tokyo:20211121T140000
DTEND;TZID=Asia/Tokyo:20211121T150000
DTSTAMP:20260425T212138
CREATED:20211114T052538Z
LAST-MODIFIED:20211114T052538Z
UID:1525-1637503200-1637506800@ilchibrainyoga-takarazuka.com
SUMMARY:健康の体温バランス、水昇火降ワークショップ
DESCRIPTION:水昇火降とは、頭が涼しく、お腹が温かい状態をいいます。\n体に活力が湧き、心が安定しているので、一歩踏み出すことができます。\n\n\n今年最後のワークショップは、水昇火降をテーマにします。興味のある方はぜひお越しください。\nこんな方におすすめです。\n＊疲れやすい\n＊考えてばかりで行動できない\n＊下半身が弱くて冷えている\n＊ストレスがいっぱいで息苦しい \n＝＝＝＝＝＝＝＝＝＝＝＝＝＝＝＝＝＝＝＝＝＝＝＝＝＝＝＝＝＝＝\n★11月のワークショップ★\n「健康の体温バランス　水昇火降になろう！」\n11月19日(金）19時~20時\n11月21日(日）14時~15時\n11月27日(土）15時~16時 \n場所：イルチブレインヨガ宝塚スタジオ（オンライン参加も可能）\n参加費：　各回1000円(税込)\n内容：水昇火降になれない3つのタイプ診断\n　　　水昇火降になるための簡単エクササイズ \n※オンライン参加も可能です。（ZOOM使用）\n※ご予約はこちらからお願いします。\n０７９７－８６－０１９１ \n体験のご予約 \n \n＝＝＝＝＝＝＝＝＝＝＝＝＝＝＝＝＝＝＝＝＝＝＝＝＝＝＝＝＝＝＝
URL:https://ilchibrainyoga-takarazuka.com/event/%e5%81%a5%e5%ba%b7%e3%81%ae%e4%bd%93%e6%b8%a9%e3%83%90%e3%83%a9%e3%83%b3%e3%82%b9%e3%80%81%e6%b0%b4%e6%98%87%e7%81%ab%e9%99%8d%e3%83%af%e3%83%bc%e3%82%af%e3%82%b7%e3%83%a7%e3%83%83%e3%83%97/
LOCATION:イルチブレインヨガ宝塚スタジオ\, 宝塚市堺町1－19－14　ワールドターンビル3階
CATEGORIES:オンライン体験会,ワークショップ
ORGANIZER;CN="%E3%82%A4%E3%83%AB%E3%83%81%E3%83%96%E3%83%AC%E3%82%A4%E3%83%B3%E3%83%A8%E3%82%AC %E5%AE%9D%E5%A1%9A":MAILTO:ilchibrtakarazuka@gmail.com
END:VEVENT
END:VCALENDAR