BEGIN:VCALENDAR
VERSION:2.0
PRODID:-//イルチブレインヨガ宝塚スタジオ - ECPv6.15.17.1//NONSGML v1.0//EN
CALSCALE:GREGORIAN
METHOD:PUBLISH
X-WR-CALNAME:イルチブレインヨガ宝塚スタジオ
X-ORIGINAL-URL:https://ilchibrainyoga-takarazuka.com
X-WR-CALDESC:イルチブレインヨガ宝塚スタジオ のイベント
REFRESH-INTERVAL;VALUE=DURATION:PT1H
X-Robots-Tag:noindex
X-PUBLISHED-TTL:PT1H
BEGIN:VTIMEZONE
TZID:Asia/Tokyo
BEGIN:STANDARD
TZOFFSETFROM:+0900
TZOFFSETTO:+0900
TZNAME:JST
DTSTART:20190101T000000
END:STANDARD
END:VTIMEZONE
BEGIN:VEVENT
DTSTART;TZID=Asia/Tokyo:20200329T140000
DTEND;TZID=Asia/Tokyo:20200329T153000
DTSTAMP:20260425T193243
CREATED:20200305T125902Z
LAST-MODIFIED:20200308T123258Z
UID:1002-1585490400-1585495800@ilchibrainyoga-takarazuka.com
SUMMARY:オンライン体験会「こども編」
DESCRIPTION:タイトル：オンライン体験会「こども編」 \n内容：集中力が保てる姿勢、低体温の改善で病気を寄せ付けない体づくり。ブレインスポーツは、子どもさんでもできる簡単なトレーニングです。今回は楽しく遊びながらできるブレイン体操。ご家族で、パソコン、スマホから参加できます。今からコツコツ、夢を叶える体と心づくりをしていきましょう！ \n \n開催日：2020年３月２９日(日)\n時間：14時～15時30分\n会場名：オンラインにて（申し込みされた方には参加方法を個別にお送りします。） \n対象年齢：小学1年生～6年生\n参加費：無料\n問合せ電話：０７９７－８６－０１９１\nトレーナー：薪浦　英実
URL:https://ilchibrainyoga-takarazuka.com/event/%e3%82%aa%e3%83%b3%e3%83%a9%e3%82%a4%e3%83%b3%e4%bd%93%e9%a8%93%e4%bc%9a%e3%80%8c%e3%81%93%e3%81%a9%e3%82%82%e7%b7%a8%e3%80%8d/
LOCATION:オンライン
CATEGORIES:ワークショップ
ATTACH;FMTTYPE=image/jpeg:https://ilchibrainyoga-takarazuka.com/wp-content/uploads/2020/03/IBY_HP_online-class-3.jpg
ORGANIZER;CN="%E3%82%A4%E3%83%AB%E3%83%81%E3%83%96%E3%83%AC%E3%82%A4%E3%83%B3%E3%83%A8%E3%82%AC %E5%AE%9D%E5%A1%9A":MAILTO:ilchibrtakarazuka@gmail.com
END:VEVENT
BEGIN:VEVENT
DTSTART;TZID=Asia/Tokyo:20200223T140000
DTEND;TZID=Asia/Tokyo:20200223T150000
DTSTAMP:20260425T193243
CREATED:20200221T072707Z
LAST-MODIFIED:20200221T072707Z
UID:975-1582466400-1582470000@ilchibrainyoga-takarazuka.com
SUMMARY:腸活ヨガミニ体験2月23～24日
DESCRIPTION:腸は健康の要です。\n✿腸内の免疫細胞と腸内細菌の活動を合わせた、腸の免疫システムは、人体全体の70～80％の役割を担っています。\n腸の活性化は心にも関係します。\n♥感情に影響するホルモンのうち、幸福感を与えるドーパミンの50％、平和な感じを与えるセロトニンの90％は腸で生成されます。\n腸がよく活性化していると、心が安定し、意欲やいい気分を維持することが出来るのです。 \n★今回は40分で体験できるミニコースをご用意しました。\n連休の合間、少しお時間があれば、ぜひお越しください。 \n★おなかも心もスッキリで、明るい春を迎えましょう。✿✿✿ \n●免疫力は腸から！～腸活ヨガミニ体験～　（1回40分・要予約） \n●日程\n２月２３日(日)　　　1３時／14時／１５時\n２４日(月・祝) 10時／11時／12時\n●参加費　1回1000円(税込） \n●申し込み　お電話または予約フォームからどうぞ。\nTEL：０７９７－８６－０１９１\n予約フォーム：https://ilchibrainyoga-takarazuka.com/yoyaku/
URL:https://ilchibrainyoga-takarazuka.com/event/%e8%85%b8%e6%b4%bb%e3%83%a8%e3%82%ac%e3%83%9f%e3%83%8b%e4%bd%93%e9%a8%932%e6%9c%8823%ef%bd%9e24%e6%97%a5/
LOCATION:イルチブレインヨガ宝塚スタジオ\, 宝塚市堺町1－19－14　ワールドターンビル3階
CATEGORIES:ワークショップ
ATTACH;FMTTYPE=image/png:https://ilchibrainyoga-takarazuka.com/wp-content/uploads/2017/08/heso03.png
ORGANIZER;CN="%E3%82%A4%E3%83%AB%E3%83%81%E3%83%96%E3%83%AC%E3%82%A4%E3%83%B3%E3%83%A8%E3%82%AC %E5%AE%9D%E5%A1%9A":MAILTO:ilchibrtakarazuka@gmail.com
END:VEVENT
BEGIN:VEVENT
DTSTART;TZID=Asia/Tokyo:20200223T130000
DTEND;TZID=Asia/Tokyo:20200223T140000
DTSTAMP:20260425T193243
CREATED:20200221T072416Z
LAST-MODIFIED:20200221T072416Z
UID:973-1582462800-1582466400@ilchibrainyoga-takarazuka.com
SUMMARY:腸活ヨガミニ体験2月23日～24日
DESCRIPTION:腸は健康の要です。\n✿腸内の免疫細胞と腸内細菌の活動を合わせた、腸の免疫システムは、人体全体の70～80％の役割を担っています。\n腸の活性化は心にも関係します。\n♥感情に影響するホルモンのうち、幸福感を与えるドーパミンの50％、平和な感じを与えるセロトニンの90％は腸で生成されます。\n腸がよく活性化していると、心が安定し、意欲やいい気分を維持することが出来るのです。 \n★今回は40分で体験できるミニコースをご用意しました。\n連休の合間、少しお時間があれば、ぜひお越しください。 \n★おなかも心もスッキリで、明るい春を迎えましょう。✿✿✿ \n●免疫力は腸から！～腸活ヨガミニ体験～　（1回40分・要予約） \n●日程\n２月２３日(日)　　　1３時／14時／１５時\n２４日(月・祝) 10時／11時／12時\n●参加費　1回1000円(税込） \n●申し込み　お電話または予約フォームからどうぞ。\nTEL：０７９７－８６－０１９１\n予約フォーム：https://ilchibrainyoga-takarazuka.com/yoyaku/
URL:https://ilchibrainyoga-takarazuka.com/event/%e8%85%b8%e6%b4%bb%e3%83%a8%e3%82%ac%e3%83%9f%e3%83%8b%e4%bd%93%e9%a8%932%e6%9c%8823%e6%97%a5%ef%bd%9e24%e6%97%a5/
CATEGORIES:ワークショップ
ATTACH;FMTTYPE=image/png:https://ilchibrainyoga-takarazuka.com/wp-content/uploads/2017/08/heso03.png
ORGANIZER;CN="%E3%82%A4%E3%83%AB%E3%83%81%E3%83%96%E3%83%AC%E3%82%A4%E3%83%B3%E3%83%A8%E3%82%AC %E5%AE%9D%E5%A1%9A":MAILTO:ilchibrtakarazuka@gmail.com
END:VEVENT
BEGIN:VEVENT
DTSTART;TZID=Asia/Tokyo:20200129T143000
DTEND;TZID=Asia/Tokyo:20200129T153000
DTSTAMP:20260425T193243
CREATED:20200116T124012Z
LAST-MODIFIED:20200116T124012Z
UID:945-1580308200-1580311800@ilchibrainyoga-takarazuka.com
SUMMARY:腸が元気だと体も元気！脳を鍛えるブレインスポーツ体験会
DESCRIPTION:腸は健康の要です。自分の腸年齢チェックと、内臓がほぐれて若返る中脘呼吸を体験します。\n\n＜こんな方におすすめ＞\n＊お腹すっきりしたい\n＊イライラ解消したい\n＊自然治癒力を高めたい\n＊ずっとイキイキしていたい \n＜内容＞　\n＊腸年齢チェック\n＊腸ほぐし、腸活性化エクササイズ\n＊中脘呼吸 \n＜日時＞\n2020年1月29日(水）14時30分～15時30分
URL:https://ilchibrainyoga-takarazuka.com/event/%e8%85%b8%e3%81%8c%e5%85%83%e6%b0%97%e3%81%a0%e3%81%a8%e4%bd%93%e3%82%82%e5%85%83%e6%b0%97%ef%bc%81%e8%84%b3%e3%82%92%e9%8d%9b%e3%81%88%e3%82%8b%e3%83%96%e3%83%ac%e3%82%a4%e3%83%b3%e3%82%b9%e3%83%9d/
LOCATION:山本会館　集会室１\, 山本東2-2-1　あいあいパーク 2F\, 宝塚\, 兵庫県
CATEGORIES:ワークショップ
ATTACH;FMTTYPE=image/png:https://ilchibrainyoga-takarazuka.com/wp-content/uploads/2020/01/yamamoto-kaikan.png
ORGANIZER;CN="%E3%82%A4%E3%83%AB%E3%83%81%E3%83%96%E3%83%AC%E3%82%A4%E3%83%B3%E3%83%A8%E3%82%AC %E5%AE%9D%E5%A1%9A":MAILTO:ilchibrtakarazuka@gmail.com
END:VEVENT
END:VCALENDAR