BEGIN:VCALENDAR
VERSION:2.0
PRODID:-//イルチブレインヨガ宝塚スタジオ - ECPv6.15.17.1//NONSGML v1.0//EN
CALSCALE:GREGORIAN
METHOD:PUBLISH
X-WR-CALNAME:イルチブレインヨガ宝塚スタジオ
X-ORIGINAL-URL:https://ilchibrainyoga-takarazuka.com
X-WR-CALDESC:イルチブレインヨガ宝塚スタジオ のイベント
REFRESH-INTERVAL;VALUE=DURATION:PT1H
X-Robots-Tag:noindex
X-PUBLISHED-TTL:PT1H
BEGIN:VTIMEZONE
TZID:Asia/Tokyo
BEGIN:STANDARD
TZOFFSETFROM:+0900
TZOFFSETTO:+0900
TZNAME:JST
DTSTART:20170101T000000
END:STANDARD
END:VTIMEZONE
BEGIN:VEVENT
DTSTART;TZID=Asia/Tokyo:20201105T143000
DTEND;TZID=Asia/Tokyo:20201105T153000
DTSTAMP:20260425T210323
CREATED:20201005T072911Z
LAST-MODIFIED:20201005T073028Z
UID:1250-1604586600-1604590200@ilchibrainyoga-takarazuka.com
SUMMARY:人生120年ワークショップ
DESCRIPTION:人生100年時代、120年時代と言われ始めています。\nそう言われて、わくわくしますか？\nそんなのいやだ、とおもいますか？\nいやだ、と思う方は、どんな未来を想像しているのでしょうか。\n死ぬまで健康で幸せで平和に生きられるなら、どうでしょうか。 \n脳教育の父と言われている一指　李承憲（いるち　いすんほん）氏の著書、\n「人生120年の選択」\nをいっしょに読みながら、\n感じたことをシェアしたり、本に登場する簡単なヨガをやってみる\n気軽なワークショップです。 \n自分の体や心に向き合いながら、\n健康で、幸せで、平和な人生にするヒントを見つけてみませんか？ \n＊＊＊＊＊＊＊＊＊＊＊＊＊＊＊＊＊＊\n「人生１２０年ワークショップ｝\n＜日時＞2020年11月05日（木）14時30分～15時30分\n＜場所＞　イルチブレインヨガ宝塚スタジオ\n＜定員＞先着３名\n＜参加費＞１０００円税込（当日お支払いください） \n＜問い合わせ＞　電話０７９７－８６－０１９１\nＥメール　ilchibrtakarazuka@gmail.com \n＜申し込み＞　電話０７９７－８６－０１９１\nＨＰ予約フォーム　https://ilchibrainyoga-takarazuka.com/yoyaku/ \n＊＊＊＊＊＊＊＊＊＊＊＊＊＊＊＊＊＊＊
URL:https://ilchibrainyoga-takarazuka.com/event/1250/
LOCATION:イルチブレインヨガ宝塚スタジオ\, 宝塚市堺町1－19－14　ワールドターンビル3階
CATEGORIES:ワークショップ
ORGANIZER;CN="%E3%82%A4%E3%83%AB%E3%83%81%E3%83%96%E3%83%AC%E3%82%A4%E3%83%B3%E3%83%A8%E3%82%AC %E5%AE%9D%E5%A1%9A":MAILTO:ilchibrtakarazuka@gmail.com
END:VEVENT
BEGIN:VEVENT
DTSTART;TZID=Asia/Tokyo:20201015T143000
DTEND;TZID=Asia/Tokyo:20201015T153000
DTSTAMP:20260425T210323
CREATED:20201005T072657Z
LAST-MODIFIED:20201005T072657Z
UID:1248-1602772200-1602775800@ilchibrainyoga-takarazuka.com
SUMMARY:人生120年ワークショップ
DESCRIPTION:人生100年時代、120年時代と言われ始めています。\nそう言われて、わくわくしますか？\nそんなのいやだ、とおもいますか？\nいやだ、と思う方は、どんな未来を想像しているのでしょうか。\n死ぬまで健康で幸せで平和に生きられるなら、どうでしょうか。 \n脳教育の父と言われている一指　李承憲（いるち　いすんほん）氏の著書、\n「人生120年の選択」\nをいっしょに読みながら、\n感じたことをシェアしたり、本に登場する簡単なヨガをやってみる\n気軽なワークショップです。 \n自分の体や心に向き合いながら、\n健康で、幸せで、平和な人生にするヒントを見つけてみませんか？ \n＊＊＊＊＊＊＊＊＊＊＊＊＊＊＊＊＊＊\n「人生１２０年ワークショップ｝\n＜日時＞2020年10月15日（木）14時30分～15時30分\n＜場所＞　イルチブレインヨガ宝塚スタジオ\n＜定員＞先着３名\n＜参加費＞１０００円税込（当日お支払いください） \n＜問い合わせ＞　電話０７９７－８６－０１９１\nＥメール　ilchibrtakarazuka@gmail.com \n＜申し込み＞　電話０７９７－８６－０１９１\nＨＰ予約フォーム　https://ilchibrainyoga-takarazuka.com/yoyaku/ \n＊＊＊＊＊＊＊＊＊＊＊＊＊＊＊＊＊＊＊
URL:https://ilchibrainyoga-takarazuka.com/event/%e4%ba%ba%e7%94%9f120%e5%b9%b4%e3%83%af%e3%83%bc%e3%82%af%e3%82%b7%e3%83%a7%e3%83%83%e3%83%97/
LOCATION:イルチブレインヨガ宝塚スタジオ\, 宝塚市堺町1－19－14　ワールドターンビル3階
CATEGORIES:ワークショップ
ORGANIZER;CN="%E3%82%A4%E3%83%AB%E3%83%81%E3%83%96%E3%83%AC%E3%82%A4%E3%83%B3%E3%83%A8%E3%82%AC %E5%AE%9D%E5%A1%9A":MAILTO:ilchibrtakarazuka@gmail.com
END:VEVENT
BEGIN:VEVENT
DTSTART;TZID=Asia/Tokyo:20200322T140000
DTEND;TZID=Asia/Tokyo:20200322T153000
DTSTAMP:20260425T210323
CREATED:20200305T125451Z
LAST-MODIFIED:20200308T123330Z
UID:1000-1584885600-1584891000@ilchibrainyoga-takarazuka.com
SUMMARY:オンライン体験会「瞑想編」
DESCRIPTION:タイトル：オンライン体験会「瞑想編」 \n内容：ストレスは万病のもと。人間のストレスの多くは、忙しく働き続ける感情や思考の中で作られます。頭の中をいったん静かにし、自分を深く見つめる瞑想は、自分の中から生まれるストレスから離れる、簡単で優れた方法です。イルチブレインヨガの瞑想トレーニングは、集中が苦手な方でもできるように工夫されています。オンラインですので、パソコン、スマホから参加できます。毎日コツコツ、ストレスを溜めない体づくりをしていきましょう！ \n \n開催日：2020年3月22日(日)\n時間：14時～15時30分\n会場名：オンラインにて（申し込みされた方には参加方法をお送りします。）\n参加費：無料 \nトレーナー：吉田　あずさ \n申し込み：下記予約フォームにてお申込み下さい。（備考欄に「オンライン」とご記入下さい）　↓　↓　↓ \n　　　　https://ilchibrainyoga-takarazuka.com/yoyaku/ \n問合せ電話：０７９７－８６－０１９１
URL:https://ilchibrainyoga-takarazuka.com/event/%e3%82%aa%e3%83%b3%e3%83%a9%e3%82%a4%e3%83%b3%e4%bd%93%e9%a8%93%e4%bc%9a%e3%80%8c%e7%9e%91%e6%83%b3%e7%b7%a8%e3%80%8d/
LOCATION:オンライン
CATEGORIES:ワークショップ
ATTACH;FMTTYPE=image/jpeg:https://ilchibrainyoga-takarazuka.com/wp-content/uploads/2020/03/IBY_HP_online-class-3.jpg
ORGANIZER;CN="%E3%82%A4%E3%83%AB%E3%83%81%E3%83%96%E3%83%AC%E3%82%A4%E3%83%B3%E3%83%A8%E3%82%AC %E5%AE%9D%E5%A1%9A":MAILTO:ilchibrtakarazuka@gmail.com
END:VEVENT
BEGIN:VEVENT
DTSTART;TZID=Asia/Tokyo:20191220T190000
DTEND;TZID=Asia/Tokyo:20191220T210000
DTSTAMP:20260425T210323
CREATED:20191129T141125Z
LAST-MODIFIED:20191129T141315Z
UID:878-1576868400-1576875600@ilchibrainyoga-takarazuka.com
SUMMARY:映画「Change」上映会＆瞑想会
DESCRIPTION:「願う通りの人生を送るには、どうすればいいのか？\nその解決のカギは脳にあった！」 \n国際映画祭 IFFSRVで最優秀短編ドキュメンタリー賞など１４の賞を受賞。\n量子物理学と脳教育に基づくエネルギーの法則を通じて、\n人間の潜在能力活性化について描いた画期的なドキュメンタリー映画です。 \n映画にも登場するライフパーティクル瞑想を体験してみます。\n新年にむけて、新しい自分にChangeする力を目覚めさせましょう。 \n日　時：①2019年12月19日(木）14時～16時、②2019年12月20日(金）19時～21時\n場　所：イルチブレインヨガ宝塚スタジオ\nナビゲーター：岩田郁子（イルチブレインヨガ宝塚スタジオ　チーフトレーナー）\n定　員：各回８名\n参加費：１回３０００円(税込)　\n　　　　※映画に登場する瞑想グッズプレゼント(初回のみ）\n主催者：イルチブレインヨガ宝塚スタジオ \n申し込み　お電話またはホームページからお申し込みください。\n０７９７－８６－０１９１\n%E4%BA%BA%E7%94%9F120%E5%B9%B4%E3%83%AF%E3%83%BC%E3%82%AF%E3%82%B7%E3%83%A7%E3%83%83%E3%83%97
URL:https://ilchibrainyoga-takarazuka.com/event/%e6%98%a0%e7%94%bb%e3%80%8cchange%e3%80%8d%e4%b8%8a%e6%98%a0%e4%bc%9a%ef%bc%86%e7%9e%91%e6%83%b3%e4%bc%9a/
LOCATION:イルチブレインヨガ宝塚スタジオ\, 宝塚市堺町1－19－14　ワールドターンビル3階
CATEGORIES:ワークショップ
ATTACH;FMTTYPE=image/jpeg:https://ilchibrainyoga-takarazuka.com/wp-content/uploads/2019/11/cropped-header-CHANGE.jpg
ORGANIZER;CN="%E3%82%A4%E3%83%AB%E3%83%81%E3%83%96%E3%83%AC%E3%82%A4%E3%83%B3%E3%83%A8%E3%82%AC %E5%AE%9D%E5%A1%9A":MAILTO:ilchibrtakarazuka@gmail.com
END:VEVENT
BEGIN:VEVENT
DTSTART;TZID=Asia/Tokyo:20191219T140000
DTEND;TZID=Asia/Tokyo:20191219T160000
DTSTAMP:20260425T210323
CREATED:20191129T140901Z
LAST-MODIFIED:20191129T141407Z
UID:875-1576764000-1576771200@ilchibrainyoga-takarazuka.com
SUMMARY:映画「Change]上映会＆瞑想会
DESCRIPTION:「願う通りの人生を送るには、どうすればいいのか？\nその解決のカギは脳にあった！」 \n国際映画祭 IFFSRVで最優秀短編ドキュメンタリー賞など１４の賞を受賞。\n量子物理学と脳教育に基づくエネルギーの法則を通じて、\n人間の潜在能力活性化について描いた画期的なドキュメンタリー映画です。 \n映画にも登場するライフパーティクル瞑想を体験してみます。\n新年にむけて、新しい自分にChangeする力を目覚めさせましょう。 \n日　時：①2019年12月19日(木）14時～16時、②2019年12月20日(金）19時～21時\n場　所：イルチブレインヨガ宝塚スタジオ\nナビゲーター：岩田郁子（イルチブレインヨガ宝塚スタジオ　チーフトレーナー）\n定　員：各回８名\n参加費：各回３０００円(税込)　\n　　　　※映画に登場する瞑想グッズプレゼント(初回のみ）\n主催者：イルチブレインヨガ宝塚スタジオ \n申し込み　お電話またはホームページからお申し込みください。\n０７９７－８６－０１９１\n%E4%BA%BA%E7%94%9F120%E5%B9%B4%E3%83%AF%E3%83%BC%E3%82%AF%E3%82%B7%E3%83%A7%E3%83%83%E3%83%97
URL:https://ilchibrainyoga-takarazuka.com/event/%e6%98%a0%e7%94%bb%e3%80%8cchange%e4%b8%8a%e6%98%a0%e4%bc%9a%ef%bc%86%e7%9e%91%e6%83%b3%e4%bc%9a/
LOCATION:イルチブレインヨガ宝塚スタジオ\, 宝塚市堺町1－19－14　ワールドターンビル3階
CATEGORIES:ワークショップ
ATTACH;FMTTYPE=image/jpeg:https://ilchibrainyoga-takarazuka.com/wp-content/uploads/2019/11/cropped-header-CHANGE.jpg
ORGANIZER;CN="%E3%82%A4%E3%83%AB%E3%83%81%E3%83%96%E3%83%AC%E3%82%A4%E3%83%B3%E3%83%A8%E3%82%AC %E5%AE%9D%E5%A1%9A":MAILTO:ilchibrtakarazuka@gmail.com
END:VEVENT
BEGIN:VEVENT
DTSTART;TZID=Asia/Tokyo:20190919T140000
DTEND;TZID=Asia/Tokyo:20190919T150000
DTSTAMP:20260425T210323
CREATED:20190903T074723Z
LAST-MODIFIED:20191126T110708Z
UID:780-1568901600-1568905200@ilchibrainyoga-takarazuka.com
SUMMARY:アロマでリフレッシュ瞑想会
DESCRIPTION:＜アロマでリフレッシュ瞑想会＞　\n普段、忙しく過ごしている方、ストレスを感じている方、\nアロマの心地よい香りの中で、\n心と体が軽くなる瞑想を体験してみませんか？\n楽に座れる服装なら、普段着でも大丈夫です。\nお好きな時間でお申し込みください。\n★ヒーリングポイントを見つけるBHP瞑想付きです。 \n日　時　８月２９日(木)　　 ①14時～15時　②16時～17時\n参加費　1500円(税込)　 先着6名\n場　所　イルチブレインヨガ宝塚スタジオ\n主催者　イルチブレインヨガ宝塚スタジオ
URL:https://ilchibrainyoga-takarazuka.com/event/%e3%82%a2%e3%83%ad%e3%83%9e%e3%81%a7%e3%83%aa%e3%83%95%e3%83%ac%e3%83%83%e3%82%b7%e3%83%a5%e7%9e%91%e6%83%b3%e4%bc%9a-3/
LOCATION:イルチブレインヨガ宝塚スタジオ\, 宝塚市堺町1－19－14　ワールドターンビル3階
CATEGORIES:ワークショップ
ATTACH;FMTTYPE=image/jpeg:https://ilchibrainyoga-takarazuka.com/wp-content/uploads/2017/10/02.jpg
ORGANIZER;CN="%E3%82%A4%E3%83%AB%E3%83%81%E3%83%96%E3%83%AC%E3%82%A4%E3%83%B3%E3%83%A8%E3%82%AC %E5%AE%9D%E5%A1%9A":MAILTO:ilchibrtakarazuka@gmail.com
END:VEVENT
BEGIN:VEVENT
DTSTART;TZID=Asia/Tokyo:20180711T140000
DTEND;TZID=Asia/Tokyo:20180711T153000
DTSTAMP:20260425T210323
CREATED:20180604T132915Z
LAST-MODIFIED:20191126T122306Z
UID:518-1531317600-1531323000@ilchibrainyoga-takarazuka.com
SUMMARY:人生120年時代を生きる　自己管理セミナー
DESCRIPTION:人生120年といわれる時代、死ぬまで活き活きと年を重ねていくために\n今からできることは何でしょうか。\nご自分の人生やこれまでの習慣を眺め、\nまた、人生の意味と価値を高めて\n体・心・脳を健康に保つトレーニングをご紹介します。\n\nこんな方におすすめです。\n□　素敵に年を重ねたい。\n□　自分の本当の願いや求めている生き方を知りたい。\n□　退職後、子育て後、自分の時間を有意義に過ごしたい。\n□　死ぬまで健康でいられる習慣を身につけたい。 \n6月27日(水）19時30分~21時\n6月28日(木）16時30分~18時\n7月11日(水)14時00分~15時30分 \n参加費2000円(税込)　※2回目以降の方は1000円\n定員8名。要予約 \n問合せ、申込　イルチブレインヨガ宝塚スタジオ　\n０７９７－８６－０１９１\nilchibrtakarazuka@gmail.com
URL:https://ilchibrainyoga-takarazuka.com/event/%e4%ba%ba%e7%94%9f120%e5%b9%b4%e6%99%82%e4%bb%a3%e3%82%92%e7%94%9f%e3%81%8d%e3%82%8b%e3%80%80%e8%87%aa%e5%b7%b1%e7%ae%a1%e7%90%86%e3%82%bb%e3%83%9f%e3%83%8a%e3%83%bc-2/
LOCATION:イルチブレインヨガ宝塚スタジオ\, 宝塚市堺町1－19－14　ワールドターンビル3階
CATEGORIES:ワークショップ
END:VEVENT
BEGIN:VEVENT
DTSTART;TZID=Asia/Tokyo:20180628T043000
DTEND;TZID=Asia/Tokyo:20180628T180000
DTSTAMP:20260425T210323
CREATED:20180604T132715Z
LAST-MODIFIED:20191126T121540Z
UID:515-1530160200-1530208800@ilchibrainyoga-takarazuka.com
SUMMARY:人生120年時代を生きる　自己管理セミナー
DESCRIPTION:人生120年といわれる時代、死ぬまで活き活きと年を重ねていくために\n今からできることは何でしょうか。\nご自分の人生やこれまでの習慣を眺め、\nまた、人生の意味と価値を高めて\n体・心・脳を健康に保つトレーニングをご紹介します。\n\nこんな方におすすめです。\n□　素敵に年を重ねたい。\n□　自分の本当の願いや求めている生き方を知りたい。\n□　退職後、子育て後、自分の時間を有意義に過ごしたい。\n□　死ぬまで健康でいられる習慣を身につけたい。 \n6月27日(水）19時30分~21時\n6月28日(木）16時30分~18時\n7月11日(水)14時00分~15時30分 \n参加費2000円(税込)　※2回目以降の方は1000円\n定員8名。要予約 \n問合せ、申込　イルチブレインヨガ宝塚スタジオ　\n０７９７－８６－０１９１\nilchibrtakarazuka@gmail.com
URL:https://ilchibrainyoga-takarazuka.com/event/%e4%ba%ba%e7%94%9f120%e5%b9%b4%e6%99%82%e4%bb%a3%e3%82%92%e7%94%9f%e3%81%8d%e3%82%8b%e3%80%80%e8%87%aa%e5%b7%b1%e7%ae%a1%e7%90%86%e3%82%bb%e3%83%9f%e3%83%8a%e3%83%bc/
LOCATION:イルチブレインヨガ宝塚スタジオ\, 宝塚市堺町1－19－14　ワールドターンビル3階
END:VEVENT
BEGIN:VEVENT
DTSTART;TZID=Asia/Tokyo:20180627T193000
DTEND;TZID=Asia/Tokyo:20180627T210000
DTSTAMP:20260425T210323
CREATED:20180604T132523Z
LAST-MODIFIED:20180604T132949Z
UID:513-1530127800-1530133200@ilchibrainyoga-takarazuka.com
SUMMARY:人生120年時代を生きる自己管理セミナー
DESCRIPTION:人生120年といわれる時代、死ぬまで活き活きと年を重ねていくために\n今からできることは何でしょうか。\nご自分の人生やこれまでの習慣を眺め、\nまた、人生の意味と価値を高めて\n体・心・脳を健康に保つトレーニングをご紹介します。\n\nこんな方におすすめです。\n□　素敵に年を重ねたい。\n□　自分の本当の願いや求めている生き方を知りたい。\n□　退職後、子育て後、自分の時間を有意義に過ごしたい。\n□　死ぬまで健康でいられる習慣を身につけたい。 \n6月27日(水）19時30分~21時\n6月28日(木）16時30分~18時\n7月11日(水)14時00分~15時30分 \n参加費2000円(税込)　※2回目以降の方は1000円\n定員8名。要予約 \n問合せ、申込　イルチブレインヨガ宝塚スタジオ　\n０７９７－８６－０１９１\nilchibrtakarazuka@gmail.com
URL:https://ilchibrainyoga-takarazuka.com/event/%e4%ba%ba%e7%94%9f120%e5%b9%b4%e6%99%82%e4%bb%a3%e3%82%92%e7%94%9f%e3%81%8d%e3%82%8b%e8%87%aa%e5%b7%b1%e7%ae%a1%e7%90%86%e3%82%bb%e3%83%9f%e3%83%8a%e3%83%bc/
LOCATION:イルチブレインヨガ宝塚スタジオ\, 宝塚市堺町1－19－14　ワールドターンビル3階
CATEGORIES:ワークショップ
END:VEVENT
END:VCALENDAR