BEGIN:VCALENDAR
VERSION:2.0
PRODID:-//イルチブレインヨガ宝塚スタジオ - ECPv6.15.17.1//NONSGML v1.0//EN
CALSCALE:GREGORIAN
METHOD:PUBLISH
X-WR-CALNAME:イルチブレインヨガ宝塚スタジオ
X-ORIGINAL-URL:https://ilchibrainyoga-takarazuka.com
X-WR-CALDESC:イルチブレインヨガ宝塚スタジオ のイベント
REFRESH-INTERVAL;VALUE=DURATION:PT1H
X-Robots-Tag:noindex
X-PUBLISHED-TTL:PT1H
BEGIN:VTIMEZONE
TZID:Asia/Tokyo
BEGIN:STANDARD
TZOFFSETFROM:+0900
TZOFFSETTO:+0900
TZNAME:JST
DTSTART:20190101T000000
END:STANDARD
END:VTIMEZONE
BEGIN:VEVENT
DTSTART;TZID=Asia/Tokyo:20200407T170000
DTEND;TZID=Asia/Tokyo:20200407T183000
DTSTAMP:20260426T013704
CREATED:20200328T123922Z
LAST-MODIFIED:20200328T124221Z
UID:1029-1586278800-1586284200@ilchibrainyoga-takarazuka.com
SUMMARY:ぐっすり眠ろう。 リラックス瞑想オンライン体験会
DESCRIPTION:「ぐっすり眠ろう。リラックス瞑想オンライン体験会」 \n最近よく眠れていますか？\n健康のグッドバランスは、体温のバランスでもあります。\n「足を温かく、頭を涼しく」\n日本では「頭寒足熱　ずかんそくねつ」と言ったりしますね。 \nこのバランスが崩れやすいのは、腸の調子が悪かったり、ストレスで体や心が緊張しているときです。\nゆっくり体をほぐして、下半身に温かい気が下りるブレイン体操と\nストレスを緩めるリラックス呼吸を体験してみましょう。 \n◆日時\n４月　７日（火）１７時００分~１８時３０分\n４月１４日（火）１７時００分~１８時３０分\n（両日とも参加無料） \n◆開催場所\nオンラインにて（zoomというシステムを使います。）\n（申し込みされると、インターネットの接続方法をご案内します。接続は簡単ですので、お気軽にお申込み下さい。） \n◆ご予約フォーム \n体験のご予約 \n \n◆お問い合わせ電話番号\n０７９７－８６－０１９１　　担当：岩田 \n火～金　９時~２１時\n土日　９時～１８時\n月・祝　定休日
URL:https://ilchibrainyoga-takarazuka.com/event/%e3%81%90%e3%81%a3%e3%81%99%e3%82%8a%e7%9c%a0%e3%82%8d%e3%81%86%e3%80%82-%e3%83%aa%e3%83%a9%e3%83%83%e3%82%af%e3%82%b9%e7%9e%91%e6%83%b3%e3%82%aa%e3%83%b3%e3%83%a9%e3%82%a4%e3%83%b3%e4%bd%93%e9%a8%93/
LOCATION:オンライン
CATEGORIES:オンライン体験会,ワークショップ
ATTACH;FMTTYPE=image/jpeg:https://ilchibrainyoga-takarazuka.com/wp-content/uploads/2014/06/s-event1.jpg
ORGANIZER;CN="%E3%82%A4%E3%83%AB%E3%83%81%E3%83%96%E3%83%AC%E3%82%A4%E3%83%B3%E3%83%A8%E3%82%AC %E5%AE%9D%E5%A1%9A":MAILTO:ilchibrtakarazuka@gmail.com
END:VEVENT
END:VCALENDAR