BEGIN:VCALENDAR
VERSION:2.0
PRODID:-//イルチブレインヨガ宝塚スタジオ - ECPv6.15.17.1//NONSGML v1.0//EN
CALSCALE:GREGORIAN
METHOD:PUBLISH
X-WR-CALNAME:イルチブレインヨガ宝塚スタジオ
X-ORIGINAL-URL:https://ilchibrainyoga-takarazuka.com
X-WR-CALDESC:イルチブレインヨガ宝塚スタジオ のイベント
REFRESH-INTERVAL;VALUE=DURATION:PT1H
X-Robots-Tag:noindex
X-PUBLISHED-TTL:PT1H
BEGIN:VTIMEZONE
TZID:Asia/Tokyo
BEGIN:STANDARD
TZOFFSETFROM:+0900
TZOFFSETTO:+0900
TZNAME:JST
DTSTART:20180101T000000
END:STANDARD
END:VTIMEZONE
BEGIN:VEVENT
DTSTART;TZID=Asia/Tokyo:20191120T140000
DTEND;TZID=Asia/Tokyo:20191120T160000
DTSTAMP:20260425T193429
CREATED:20190927T101409Z
LAST-MODIFIED:20190927T101409Z
UID:807-1574258400-1574265600@ilchibrainyoga-takarazuka.com
SUMMARY:体も心も若返る！正しい姿勢を作るヨガと下着のおはなし
DESCRIPTION:ここ宝塚では、街中でタカラジェンヌさんを見かけますが、\nみなさん背筋がピン！でとっても美しいですよね。\n皆さんも姿勢を整えれば、それだけで若々しく、表情も明るく変身できるんです。\nもっと大事なことは、姿勢を整えることが\n内臓や気血循環がよくなり、呼吸が深くできるようになり、健康な体を作ってくれるということ。 \n体に問題があれば、心配そうな顔になり、イライラしがちでストレスが増えます。\n体と心は繋がっています。\n見た目の美しさだけでなく、身も心も美しくなりましょう。 \n今回は宝塚でもファンが多いリエジャーでおなじみの\n株式会社プレリーヴジャパン　ブラ美活研究家　RIEMI(ﾘｴﾐ)さんとのコラボ講習会です。\n「自分に合った下着選びがこれからの美と健康の鍵」、\n「外見だけでなく、内面からの美しさが大事だ」と伝えているRIEMIさん。 \n「リエジャー」も、ただのきれいな下着ではなく、\n姿勢を正して背筋がピンとなるように設計されているんだそうです。\nその生みの親であるRIEMIさんの\n「下着を味方につけて姿勢美人」のお話を聞いたあとは、プチヨガタイム。 \n姿勢と脳、内臓、内面まで繋がる健康原理のおはなしと\nイルチブレインヨガのブレイン体操、呼吸瞑想を通して、\n正しい姿勢の時の呼吸や心身の感覚を体感してみます。 \n最後のティータイムには、下着のこと、体や姿勢のことについて、\n個人的にご相談いただくこともできます。\nどうぞお気軽にお越しください。\n定員10名。先着順とさせていただきます。
URL:https://ilchibrainyoga-takarazuka.com/event/%e4%bd%93%e3%82%82%e5%bf%83%e3%82%82%e8%8b%a5%e8%bf%94%e3%82%8b%ef%bc%81%e6%ad%a3%e3%81%97%e3%81%84%e5%a7%bf%e5%8b%a2%e3%82%92%e4%bd%9c%e3%82%8b%e3%83%a8%e3%82%ac%e3%81%a8%e4%b8%8b%e7%9d%80%e3%81%ae/
LOCATION:イルチブレインヨガ宝塚スタジオ\, 宝塚市堺町1－19－14　ワールドターンビル3階
CATEGORIES:ワークショップ
ATTACH;FMTTYPE=image/jpeg:https://ilchibrainyoga-takarazuka.com/wp-content/uploads/2019/09/s-da-413015.jpg
END:VEVENT
END:VCALENDAR