BEGIN:VCALENDAR
VERSION:2.0
PRODID:-//イルチブレインヨガ宝塚スタジオ - ECPv6.15.17.1//NONSGML v1.0//EN
CALSCALE:GREGORIAN
METHOD:PUBLISH
X-WR-CALNAME:イルチブレインヨガ宝塚スタジオ
X-ORIGINAL-URL:https://ilchibrainyoga-takarazuka.com
X-WR-CALDESC:イルチブレインヨガ宝塚スタジオ のイベント
REFRESH-INTERVAL;VALUE=DURATION:PT1H
X-Robots-Tag:noindex
X-PUBLISHED-TTL:PT1H
BEGIN:VTIMEZONE
TZID:Asia/Tokyo
BEGIN:STANDARD
TZOFFSETFROM:+0900
TZOFFSETTO:+0900
TZNAME:JST
DTSTART:20180101T000000
END:STANDARD
END:VTIMEZONE
BEGIN:VEVENT
DTSTART;TZID=Asia/Tokyo:20190919T160000
DTEND;TZID=Asia/Tokyo:20190919T170000
DTSTAMP:20260426T004614
CREATED:20190903T075035Z
LAST-MODIFIED:20191126T110622Z
UID:782-1568908800-1568912400@ilchibrainyoga-takarazuka.com
SUMMARY:アロマでリフレッシュ瞑想会
DESCRIPTION:＜アロマでリフレッシュ瞑想会＞　\n普段、忙しく過ごしている方、ストレスを感じている方、\nアロマの心地よい香りの中で、\n心と体が軽くなる瞑想を体験してみませんか？\n楽に座れる服装なら、普段着でも大丈夫です。\nお好きな時間でお申し込みください。\n★ヒーリングポイントを見つけるBHP瞑想付きです。 \n日　時　８月２９日(木)　　 ①14時～15時　②16時～17時\n参加費　1500円(税込)　 先着6名\n場　所　イルチブレインヨガ宝塚スタジオ\n主催者　イルチブレインヨガ宝塚スタジオ
URL:https://ilchibrainyoga-takarazuka.com/event/782/
LOCATION:イルチブレインヨガ宝塚スタジオ\, 宝塚市堺町1－19－14　ワールドターンビル3階
CATEGORIES:ワークショップ
ATTACH;FMTTYPE=image/jpeg:https://ilchibrainyoga-takarazuka.com/wp-content/uploads/2017/10/02.jpg
ORGANIZER;CN="%E3%82%A4%E3%83%AB%E3%83%81%E3%83%96%E3%83%AC%E3%82%A4%E3%83%B3%E3%83%A8%E3%82%AC %E5%AE%9D%E5%A1%9A":MAILTO:ilchibrtakarazuka@gmail.com
END:VEVENT
BEGIN:VEVENT
DTSTART;TZID=Asia/Tokyo:20190919T140000
DTEND;TZID=Asia/Tokyo:20190919T150000
DTSTAMP:20260426T004614
CREATED:20190903T074723Z
LAST-MODIFIED:20191126T110708Z
UID:780-1568901600-1568905200@ilchibrainyoga-takarazuka.com
SUMMARY:アロマでリフレッシュ瞑想会
DESCRIPTION:＜アロマでリフレッシュ瞑想会＞　\n普段、忙しく過ごしている方、ストレスを感じている方、\nアロマの心地よい香りの中で、\n心と体が軽くなる瞑想を体験してみませんか？\n楽に座れる服装なら、普段着でも大丈夫です。\nお好きな時間でお申し込みください。\n★ヒーリングポイントを見つけるBHP瞑想付きです。 \n日　時　８月２９日(木)　　 ①14時～15時　②16時～17時\n参加費　1500円(税込)　 先着6名\n場　所　イルチブレインヨガ宝塚スタジオ\n主催者　イルチブレインヨガ宝塚スタジオ
URL:https://ilchibrainyoga-takarazuka.com/event/%e3%82%a2%e3%83%ad%e3%83%9e%e3%81%a7%e3%83%aa%e3%83%95%e3%83%ac%e3%83%83%e3%82%b7%e3%83%a5%e7%9e%91%e6%83%b3%e4%bc%9a-3/
LOCATION:イルチブレインヨガ宝塚スタジオ\, 宝塚市堺町1－19－14　ワールドターンビル3階
CATEGORIES:ワークショップ
ATTACH;FMTTYPE=image/jpeg:https://ilchibrainyoga-takarazuka.com/wp-content/uploads/2017/10/02.jpg
ORGANIZER;CN="%E3%82%A4%E3%83%AB%E3%83%81%E3%83%96%E3%83%AC%E3%82%A4%E3%83%B3%E3%83%A8%E3%82%AC %E5%AE%9D%E5%A1%9A":MAILTO:ilchibrtakarazuka@gmail.com
END:VEVENT
BEGIN:VEVENT
DTSTART;TZID=Asia/Tokyo:20190829T150000
DTEND;TZID=Asia/Tokyo:20190829T160000
DTSTAMP:20260426T004614
CREATED:20190802T142042Z
LAST-MODIFIED:20191126T110740Z
UID:776-1567090800-1567094400@ilchibrainyoga-takarazuka.com
SUMMARY:アロマでリフレッシュ瞑想会
DESCRIPTION:＜アロマでリフレッシュ瞑想会＞　\n普段、忙しく過ごしている方、ストレスを感じている方、\nアロマの心地よい香りの中で、\n心と体が軽くなる瞑想を体験してみませんか？\n楽に座れる服装なら、普段着でも大丈夫です。\nお好きな時間でお申し込みください。\n★ヒーリングポイントを見つけるBHP瞑想付きです。 \n日　時　８月２９日(木)　　 ①13時～14時　②15時～16時\n参加費　1500円(税込)　 先着10名\n場　所　イルチブレインヨガ宝塚スタジオ\n主催者　イルチブレインヨガ宝塚スタジオ
URL:https://ilchibrainyoga-takarazuka.com/event/%e3%82%a2%e3%83%ad%e3%83%9e%e3%81%a7%e3%83%aa%e3%83%95%e3%83%ac%e3%83%83%e3%82%b7%e3%83%a5%e7%9e%91%e6%83%b3%e4%bc%9a-2/
LOCATION:イルチブレインヨガ宝塚スタジオ\, 宝塚市堺町1－19－14　ワールドターンビル3階
ATTACH;FMTTYPE=image/jpeg:https://ilchibrainyoga-takarazuka.com/wp-content/uploads/2014/06/s-event1.jpg
ORGANIZER;CN="%E3%82%A4%E3%83%AB%E3%83%81%E3%83%96%E3%83%AC%E3%82%A4%E3%83%B3%E3%83%A8%E3%82%AC %E5%AE%9D%E5%A1%9A":MAILTO:ilchibrtakarazuka@gmail.com
END:VEVENT
BEGIN:VEVENT
DTSTART;TZID=Asia/Tokyo:20190829T130000
DTEND;TZID=Asia/Tokyo:20190829T140000
DTSTAMP:20260426T004614
CREATED:20190802T141814Z
LAST-MODIFIED:20191126T110809Z
UID:774-1567083600-1567087200@ilchibrainyoga-takarazuka.com
SUMMARY:アロマでリフレッシュ瞑想会
DESCRIPTION:＜アロマでリフレッシュ瞑想会＞　\n普段、忙しく過ごしている方、ストレスを感じている方、\nアロマの心地よい香りの中で、\n心と体が軽くなる瞑想を体験してみませんか？\n楽に座れる服装なら、普段着でも大丈夫です。\nお好きな時間でお申し込みください。\n★ヒーリングポイントを見つけるBHP瞑想付きです。 \n日　時　８月２９日(木)　　 ①13時～14時　②15時～16時\n参加費　1500円(税込)　 先着10名\n場　所　イルチブレインヨガ宝塚スタジオ\n主催者　イルチブレインヨガ宝塚スタジオ
URL:https://ilchibrainyoga-takarazuka.com/event/%e3%82%a2%e3%83%ad%e3%83%9e%e3%81%a7%e3%83%aa%e3%83%95%e3%83%ac%e3%83%83%e3%82%b7%e3%83%a5%e7%9e%91%e6%83%b3%e4%bc%9a/
LOCATION:イルチブレインヨガ宝塚スタジオ\, 宝塚市堺町1－19－14　ワールドターンビル3階
CATEGORIES:ワークショップ
ORGANIZER;CN="%E3%82%A4%E3%83%AB%E3%83%81%E3%83%96%E3%83%AC%E3%82%A4%E3%83%B3%E3%83%A8%E3%82%AC %E5%AE%9D%E5%A1%9A":MAILTO:ilchibrtakarazuka@gmail.com
END:VEVENT
END:VCALENDAR