BEGIN:VCALENDAR
VERSION:2.0
PRODID:-//イルチブレインヨガ宝塚スタジオ - ECPv6.15.17.1//NONSGML v1.0//EN
CALSCALE:GREGORIAN
METHOD:PUBLISH
X-WR-CALNAME:イルチブレインヨガ宝塚スタジオ
X-ORIGINAL-URL:https://ilchibrainyoga-takarazuka.com
X-WR-CALDESC:イルチブレインヨガ宝塚スタジオ のイベント
REFRESH-INTERVAL;VALUE=DURATION:PT1H
X-Robots-Tag:noindex
X-PUBLISHED-TTL:PT1H
BEGIN:VTIMEZONE
TZID:Asia/Tokyo
BEGIN:STANDARD
TZOFFSETFROM:+0900
TZOFFSETTO:+0900
TZNAME:JST
DTSTART:20140101T000000
END:STANDARD
END:VTIMEZONE
BEGIN:VEVENT
DTSTART;VALUE=DATE:20171002
DTEND;VALUE=DATE:20171101
DTSTAMP:20260425T214351
CREATED:20170914T113246Z
LAST-MODIFIED:20170914T113246Z
UID:391-1506902400-1509494399@ilchibrainyoga-takarazuka.com
SUMMARY:ワンコインdeスタンプラリー　
DESCRIPTION:宝塚商工会議所主催、ワンコインdeスタンプラリーに参加しています。 \n期間：10月1日（日）~10月31日（火）　\n※期間中休業日　10月1日（日）および月曜日、祝日 \n内容：イルチブレインヨガのベーシッククラス1回90分を1000円（税込）で体験いただけます。\n　　　　ブレイン体操、丹田呼吸、ブレイン瞑想\n　　　（体をリラックスさせ、呼吸を通して丹田にエネルギーを温める基本のレッスンです。） \n\n時間帯：朝　10時10分~11時40分　　昼　14時10分~15時40分　　夜19時10分~20時40分\n　　　　体験の際は開始時間の20分前にお越しください。体調チェックとご説明を致します。 \nもちもの：動きやすい服装、汗拭きタオル（靴不要、ヨガマットは無料レンタル） \n申込：お電話かホームページの体験予約フォームからお申し込みください。\n　　　お申し込みの際に「ワンコインdeスタンプラリーを見て」とお申し出ください。 \n申込、問合先：　電話　０７９７－８６－０１９１\n　　　　　　　　ホームページ　　http://ilchibrainyoga-takarazuka.com/yoyaku/
URL:https://ilchibrainyoga-takarazuka.com/event/%e3%83%af%e3%83%b3%e3%82%b3%e3%82%a4%e3%83%b3de%e3%82%b9%e3%82%bf%e3%83%b3%e3%83%97%e3%83%a9%e3%83%aa%e3%83%bc%e3%80%80/
CATEGORIES:キャンペーン
ORGANIZER;CN="%E3%82%A4%E3%83%AB%E3%83%81%E3%83%96%E3%83%AC%E3%82%A4%E3%83%B3%E3%83%A8%E3%82%AC %E5%AE%9D%E5%A1%9A":MAILTO:ilchibrtakarazuka@gmail.com
END:VEVENT
BEGIN:VEVENT
DTSTART;TZID=Asia/Tokyo:20170516T100000
DTEND;TZID=Asia/Tokyo:20170521T180000
DTSTAMP:20260425T214351
CREATED:20170514T071958Z
LAST-MODIFIED:20191126T125643Z
UID:360-1494928800-1495389600@ilchibrainyoga-takarazuka.com
SUMMARY:ワンコイン体験デー
DESCRIPTION:イルチブレインヨガ２０周年を記念して\nヨガのレッスンを期間限定５００円で体験していただけます。\n(通常３０００円）\nご希望の時間帯をご連絡ください。\n０７９７－８６－０１９１\n＊体験時間約９０分です。\n＊動きやすい服装でお越しください。(更衣室あります）。\n＊ヨガマット、靴は不要です。\n＊曜日によってご希望に添えない場合がございますので、ご了承ください。
URL:https://ilchibrainyoga-takarazuka.com/event/%e3%83%af%e3%83%b3%e3%82%b3%e3%82%a4%e3%83%b3%e4%bd%93%e9%a8%93%e3%83%87%e3%83%bc/
LOCATION:イルチブレインヨガ宝塚スタジオ\, 宝塚市堺町1－19－14　ワールドターンビル3階
CATEGORIES:キャンペーン
ATTACH;FMTTYPE=image/png:https://ilchibrainyoga-takarazuka.com/wp-content/uploads/2017/05/illust931.png
ORGANIZER;CN="%E3%82%A4%E3%83%AB%E3%83%81%E3%83%96%E3%83%AC%E3%82%A4%E3%83%B3%E3%83%A8%E3%82%AC %E5%AE%9D%E5%A1%9A":MAILTO:ilchibrtakarazuka@gmail.com
END:VEVENT
BEGIN:VEVENT
DTSTART;TZID=Asia/Tokyo:20170108T101000
DTEND;TZID=Asia/Tokyo:20170108T114000
DTSTAMP:20260425T214351
CREATED:20161223T123820Z
LAST-MODIFIED:20191126T130357Z
UID:331-1483870200-1483875600@ilchibrainyoga-takarazuka.com
SUMMARY:初ヨガWEEK最終日
DESCRIPTION:２０１７年初ヨガ週間です。\n体験レッスンが１０００円になります。\nお正月の時間のゆとりのある時に、初ヨガしませんか？\n今年こそダイエット、今年こそ運動不足解消、今年こそ自分のための時間を\nという方、ぜひこの機会をご利用ください。 \n毎日の体調管理、メンタル管理に最適な「へそヒーリング」体験も\n期間中は１０００円で承ります。（１回３０分） \nご予約は、お電話かお申込みフォームからどうぞ。\n０７９７－８６－０１９１ \n＜体験レッスン時間枠＞\n１月８日(金）10:10～11:40
URL:https://ilchibrainyoga-takarazuka.com/event/%e5%88%9d%e3%83%a8%e3%82%acweek%e6%9c%80%e7%b5%82%e6%97%a5/
LOCATION:イルチブレインヨガ宝塚スタジオ\, 宝塚市堺町1－19－14　ワールドターンビル3階
CATEGORIES:キャンペーン
ORGANIZER;CN="%E3%82%A4%E3%83%AB%E3%83%81%E3%83%96%E3%83%AC%E3%82%A4%E3%83%B3%E3%83%A8%E3%82%AC %E5%AE%9D%E5%A1%9A":MAILTO:ilchibrtakarazuka@gmail.com
END:VEVENT
BEGIN:VEVENT
DTSTART;TZID=Asia/Tokyo:20170107T101000
DTEND;TZID=Asia/Tokyo:20170107T150000
DTSTAMP:20260425T214351
CREATED:20161223T123719Z
LAST-MODIFIED:20191126T130533Z
UID:330-1483783800-1483801200@ilchibrainyoga-takarazuka.com
SUMMARY:初ヨガWEEK
DESCRIPTION:２０１７年初ヨガ週間です。\n体験レッスンが１０００円になります。\nお正月の時間のゆとりのある時に、初ヨガしませんか？\n今年こそダイエット、今年こそ運動不足解消、今年こそ自分のための時間を\nという方、ぜひこの機会をご利用ください。 \n毎日の体調管理、メンタル管理に最適な「へそヒーリング」体験も\n期間中は１０００円で承ります。（１回３０分） \nご予約は、お電話かお申込みフォームからどうぞ。\n０７９７－８６－０１９１ \n＜体験レッスン時間枠＞\n１月７日(金）10:10～11:40／13:30～15:00\n１月８日(金）10:10～11:40
URL:https://ilchibrainyoga-takarazuka.com/event/%e5%88%9d%e3%83%a8%e3%82%acweek-5/
LOCATION:イルチブレインヨガ宝塚スタジオ\, 宝塚市堺町1－19－14　ワールドターンビル3階
CATEGORIES:キャンペーン
ORGANIZER;CN="%E3%82%A4%E3%83%AB%E3%83%81%E3%83%96%E3%83%AC%E3%82%A4%E3%83%B3%E3%83%A8%E3%82%AC %E5%AE%9D%E5%A1%9A":MAILTO:ilchibrtakarazuka@gmail.com
END:VEVENT
BEGIN:VEVENT
DTSTART;TZID=Asia/Tokyo:20161229T100000
DTEND;TZID=Asia/Tokyo:20161229T120000
DTSTAMP:20260425T214351
CREATED:20161223T120610Z
LAST-MODIFIED:20191126T131521Z
UID:319-1483005600-1483012800@ilchibrainyoga-takarazuka.com
SUMMARY:2016体験可能最終日
DESCRIPTION:１２月２９日（木）１０時１０分からのクラスが、今年体験レッスンできる最後のクラスになります。\n体験は１回３０００円、インターネットからのご予約で２０００円になります。\n今年の疲れをリセットして、すっきり新年を迎えましょう。 \n今年のうちに、新年からの１か月お試しコースを申し込んでおくこともできます。\n（１月のお好きな日から１か月間通い放題で１万円です）\nご予約はお早めにどうぞ。
URL:https://ilchibrainyoga-takarazuka.com/event/2016%e4%bd%93%e9%a8%93%e5%8f%af%e8%83%bd%e6%9c%80%e7%b5%82%e6%97%a5/
LOCATION:イルチブレインヨガ宝塚スタジオ\, 宝塚市堺町1－19－14　ワールドターンビル3階
CATEGORIES:キャンペーン
END:VEVENT
BEGIN:VEVENT
DTSTART;TZID=Asia/Tokyo:20150418T100000
DTEND;TZID=Asia/Tokyo:20150418T120000
DTSTAMP:20260425T214351
CREATED:20150328T073932Z
LAST-MODIFIED:20191126T134800Z
UID:153-1429351200-1429358400@ilchibrainyoga-takarazuka.com
SUMMARY:ヨガの日　体験レッスン500円デー
DESCRIPTION:4と8の付く日はヨガの日。 \n一般クラス90分体験が500円です。（通常3000円） \n皆さんの体力に合わせて調整しますので、 \n初めての方もお気軽におこしくださいね
URL:https://ilchibrainyoga-takarazuka.com/event/%e3%83%a8%e3%82%ac%e3%81%ae%e6%97%a5%e3%80%80%e4%bd%93%e9%a8%93%e3%83%ac%e3%83%83%e3%82%b9%e3%83%b3500%e5%86%86%e3%83%87%e3%83%bc-3/
LOCATION:イルチブレインヨガ宝塚スタジオ\, 宝塚市堺町1－19－14　ワールドターンビル3階
CATEGORIES:キャンペーン
END:VEVENT
BEGIN:VEVENT
DTSTART;TZID=Asia/Tokyo:20150408T100000
DTEND;TZID=Asia/Tokyo:20150408T154000
DTSTAMP:20260425T214351
CREATED:20150328T073739Z
LAST-MODIFIED:20191126T134936Z
UID:150-1428487200-1428507600@ilchibrainyoga-takarazuka.com
SUMMARY:ヨガの日　体験レッスン500円
DESCRIPTION:4と8の付く日はヨガの日。 \n一般クラス90分体験が500円です。（通常3000円） \n皆さんの体力に合わせて調整しますので、 \n初めての方もお気軽におこしくださいね
URL:https://ilchibrainyoga-takarazuka.com/event/%e3%83%a8%e3%82%ac%e3%81%ae%e6%97%a5%e3%80%80%e4%bd%93%e9%a8%93%e3%83%ac%e3%83%83%e3%82%b9%e3%83%b3500%e5%86%86/
LOCATION:イルチブレインヨガ宝塚スタジオ\, 宝塚市堺町1－19－14　ワールドターンビル3階
CATEGORIES:キャンペーン
END:VEVENT
END:VCALENDAR