BEGIN:VCALENDAR
VERSION:2.0
PRODID:-//イルチブレインヨガ宝塚スタジオ - ECPv6.15.17.1//NONSGML v1.0//EN
CALSCALE:GREGORIAN
METHOD:PUBLISH
X-WR-CALNAME:イルチブレインヨガ宝塚スタジオ
X-ORIGINAL-URL:https://ilchibrainyoga-takarazuka.com
X-WR-CALDESC:イルチブレインヨガ宝塚スタジオ のイベント
REFRESH-INTERVAL;VALUE=DURATION:PT1H
X-Robots-Tag:noindex
X-PUBLISHED-TTL:PT1H
BEGIN:VTIMEZONE
TZID:Asia/Tokyo
BEGIN:STANDARD
TZOFFSETFROM:+0900
TZOFFSETTO:+0900
TZNAME:JST
DTSTART:20190101T000000
END:STANDARD
END:VTIMEZONE
BEGIN:VEVENT
DTSTART;TZID=Asia/Tokyo:20211127T150000
DTEND;TZID=Asia/Tokyo:20211127T160000
DTSTAMP:20260425T214101
CREATED:20211114T052817Z
LAST-MODIFIED:20211114T052817Z
UID:1527-1638025200-1638028800@ilchibrainyoga-takarazuka.com
SUMMARY:健康の体温バランス、水昇火降ワークショップ
DESCRIPTION:水昇火降とは、頭が涼しく、お腹が温かい状態をいいます。\n体に活力が湧き、心が安定しているので、一歩踏み出すことができます。\n\n\n今年最後のワークショップは、水昇火降をテーマにします。興味のある方はぜひお越しください。\nこんな方におすすめです。\n＊疲れやすい\n＊考えてばかりで行動できない\n＊下半身が弱くて冷えている\n＊ストレスがいっぱいで息苦しい \n＝＝＝＝＝＝＝＝＝＝＝＝＝＝＝＝＝＝＝＝＝＝＝＝＝＝＝＝＝＝＝\n★11月のワークショップ★\n「健康の体温バランス　水昇火降になろう！」\n11月19日(金）19時~20時\n11月21日(日）14時~15時\n11月27日(土）15時~16時 \n場所：イルチブレインヨガ宝塚スタジオ（オンライン参加も可能）\n参加費：　各回1000円(税込)\n内容：水昇火降になれない3つのタイプ診断\n　　　水昇火降になるための簡単エクササイズ \n※オンライン参加も可能です。（ZOOM使用）\n※ご予約はこちらからお願いします。\n０７９７－８６－０１９１ \n体験のご予約 \n \n＝＝＝＝＝＝＝＝＝＝＝＝＝＝＝＝＝＝＝＝＝＝＝＝＝＝＝＝＝＝＝
URL:https://ilchibrainyoga-takarazuka.com/event/%e5%81%a5%e5%ba%b7%e3%81%ae%e4%bd%93%e6%b8%a9%e3%83%90%e3%83%a9%e3%83%b3%e3%82%b9%e3%80%81%e6%b0%b4%e6%98%87%e7%81%ab%e9%99%8d%e3%83%af%e3%83%bc%e3%82%af%e3%82%b7%e3%83%a7%e3%83%83%e3%83%97-2/
LOCATION:イルチブレインヨガ宝塚スタジオ\, 宝塚市堺町1－19－14　ワールドターンビル3階
CATEGORIES:オンライン体験会,ワークショップ
ORGANIZER;CN="%E3%82%A4%E3%83%AB%E3%83%81%E3%83%96%E3%83%AC%E3%82%A4%E3%83%B3%E3%83%A8%E3%82%AC %E5%AE%9D%E5%A1%9A":MAILTO:ilchibrtakarazuka@gmail.com
END:VEVENT
BEGIN:VEVENT
DTSTART;TZID=Asia/Tokyo:20211121T140000
DTEND;TZID=Asia/Tokyo:20211121T150000
DTSTAMP:20260425T214101
CREATED:20211114T052538Z
LAST-MODIFIED:20211114T052538Z
UID:1525-1637503200-1637506800@ilchibrainyoga-takarazuka.com
SUMMARY:健康の体温バランス、水昇火降ワークショップ
DESCRIPTION:水昇火降とは、頭が涼しく、お腹が温かい状態をいいます。\n体に活力が湧き、心が安定しているので、一歩踏み出すことができます。\n\n\n今年最後のワークショップは、水昇火降をテーマにします。興味のある方はぜひお越しください。\nこんな方におすすめです。\n＊疲れやすい\n＊考えてばかりで行動できない\n＊下半身が弱くて冷えている\n＊ストレスがいっぱいで息苦しい \n＝＝＝＝＝＝＝＝＝＝＝＝＝＝＝＝＝＝＝＝＝＝＝＝＝＝＝＝＝＝＝\n★11月のワークショップ★\n「健康の体温バランス　水昇火降になろう！」\n11月19日(金）19時~20時\n11月21日(日）14時~15時\n11月27日(土）15時~16時 \n場所：イルチブレインヨガ宝塚スタジオ（オンライン参加も可能）\n参加費：　各回1000円(税込)\n内容：水昇火降になれない3つのタイプ診断\n　　　水昇火降になるための簡単エクササイズ \n※オンライン参加も可能です。（ZOOM使用）\n※ご予約はこちらからお願いします。\n０７９７－８６－０１９１ \n体験のご予約 \n \n＝＝＝＝＝＝＝＝＝＝＝＝＝＝＝＝＝＝＝＝＝＝＝＝＝＝＝＝＝＝＝
URL:https://ilchibrainyoga-takarazuka.com/event/%e5%81%a5%e5%ba%b7%e3%81%ae%e4%bd%93%e6%b8%a9%e3%83%90%e3%83%a9%e3%83%b3%e3%82%b9%e3%80%81%e6%b0%b4%e6%98%87%e7%81%ab%e9%99%8d%e3%83%af%e3%83%bc%e3%82%af%e3%82%b7%e3%83%a7%e3%83%83%e3%83%97/
LOCATION:イルチブレインヨガ宝塚スタジオ\, 宝塚市堺町1－19－14　ワールドターンビル3階
CATEGORIES:オンライン体験会,ワークショップ
ORGANIZER;CN="%E3%82%A4%E3%83%AB%E3%83%81%E3%83%96%E3%83%AC%E3%82%A4%E3%83%B3%E3%83%A8%E3%82%AC %E5%AE%9D%E5%A1%9A":MAILTO:ilchibrtakarazuka@gmail.com
END:VEVENT
BEGIN:VEVENT
DTSTART;TZID=Asia/Tokyo:20211119T190000
DTEND;TZID=Asia/Tokyo:20211119T200000
DTSTAMP:20260425T214101
CREATED:20211114T052222Z
LAST-MODIFIED:20211114T052326Z
UID:1520-1637348400-1637352000@ilchibrainyoga-takarazuka.com
SUMMARY:健康の体温バランス、水昇火降になろう！ワークショップ
DESCRIPTION:水昇火降とは、頭が涼しく、お腹が温かい状態をいいます。\n体に活力が湧き、心が安定しているので、一歩踏み出すことができます。\n\n\n今年最後のワークショップは、水昇火降をテーマにします。興味のある方はぜひお越しください。\nこんな方におすすめです。\n＊疲れやすい\n＊考えてばかりで行動できない\n＊下半身が弱くて冷えている\n＊ストレスがいっぱいで息苦しい \n＝＝＝＝＝＝＝＝＝＝＝＝＝＝＝＝＝＝＝＝＝＝＝＝＝＝＝＝＝＝＝\n★11月のワークショップ★\n「健康の体温バランス　水昇火降になろう！」\n11月19日(金）19時~20時\n11月21日(日）14時~15時\n11月27日(土）15時~16時 \n場所：イルチブレインヨガ宝塚スタジオ（オンライン参加も可能）\n参加費：　各回1000円(税込)\n内容：水昇火降になれない3つのタイプ診断\n　　　水昇火降になるための簡単エクササイズ \n※オンライン参加も可能です。（ZOOM使用）\n※ご予約はこちらからお願いします。\n０７９７－８６－０１９１ \n体験のご予約 \n \n＝＝＝＝＝＝＝＝＝＝＝＝＝＝＝＝＝＝＝＝＝＝＝＝＝＝＝＝＝＝＝
URL:https://ilchibrainyoga-takarazuka.com/event/%e5%81%a5%e5%ba%b7%e3%81%ae%e4%bd%93%e6%b8%a9%e3%83%90%e3%83%a9%e3%83%b3%e3%82%b9%e3%80%81%e6%b0%b4%e6%98%87%e7%81%ab%e9%99%8d%e3%81%ab%e3%81%aa%e3%82%8d%e3%81%86%ef%bc%81%e3%83%af%e3%83%bc%e3%82%af/
LOCATION:イルチブレインヨガ宝塚スタジオ\, 宝塚市堺町1－19－14　ワールドターンビル3階
CATEGORIES:オンライン体験会,ワークショップ
ORGANIZER;CN="%E3%82%A4%E3%83%AB%E3%83%81%E3%83%96%E3%83%AC%E3%82%A4%E3%83%B3%E3%83%A8%E3%82%AC %E5%AE%9D%E5%A1%9A":MAILTO:ilchibrtakarazuka@gmail.com
END:VEVENT
BEGIN:VEVENT
DTSTART;TZID=Asia/Tokyo:20201125T193000
DTEND;TZID=Asia/Tokyo:20201125T203000
DTSTAMP:20260425T214101
CREATED:20201005T070534Z
LAST-MODIFIED:20201005T070534Z
UID:1243-1606332600-1606336200@ilchibrainyoga-takarazuka.com
SUMMARY:「オンライン瞑想体験会　～動く瞑想」
DESCRIPTION:「わたしはなぜ不安なのか？」\n「どうすれば自分とつながれる？」\n普段何気なく見過ごしている自分自身と\nもう一度つながりませんか？ \n・人の目が気になる\n・自信がもてない\n・心配が多い\n・慌ただしい毎日で疲れる\nそんな方は、ストレス管理、体と心の調節が\n自分でできるようになるといいですね。 \n「瞑想って、いいらしいけど、難しそう」\n「本を読んだけど分からなかった」\nという皆さんへ、\n瞑想を始めるときは、できればトレーナーに指導してもらうことをお勧めします。\nイルチブレインヨガの瞑想は、\n誰でも簡単に集中できるように工夫されていますので、\nお気軽にチャレンジしてみてください。\n\n＊＊＊＊＊＊＊＊＊＊＊＊＊＊＊＊＊\n「オンライン瞑想体験会　～動く瞑想」\n＜日時＞　11月25日（水）19時30分～20時30分 \n＜お問い合わせ＞　\nお電話　０７９７－８６－０１９１\nＥメール　ilchibrtakarazuka@gmail.com \n＜ご予約＞　\nお電話　０７９７－８６－０１９１\nホームページ予約フォーム　https://ilchibrainyoga-takarazuka.com/yoyaku/ \n＜参加費＞　1000円税込（ご予約確定後お振込み頂きます） \n＜定員＞　先着５名様 \n※オンライン会議アプリ　ＺＯＯＭを使います。\n※集中しやすい静かな場所でご参加ください。椅子でもできます。\n＊＊＊＊＊＊＊＊＊＊＊＊＊＊＊＊＊＊＊
URL:https://ilchibrainyoga-takarazuka.com/event/%e3%80%8c%e3%82%aa%e3%83%b3%e3%83%a9%e3%82%a4%e3%83%b3%e7%9e%91%e6%83%b3%e4%bd%93%e9%a8%93%e4%bc%9a%e3%80%80%ef%bd%9e%e5%8b%95%e3%81%8f%e7%9e%91%e6%83%b3%e3%80%8d/
LOCATION:オンライン
CATEGORIES:オンライン体験会,ワークショップ
ORGANIZER;CN="%E3%82%A4%E3%83%AB%E3%83%81%E3%83%96%E3%83%AC%E3%82%A4%E3%83%B3%E3%83%A8%E3%82%AC %E5%AE%9D%E5%A1%9A":MAILTO:ilchibrtakarazuka@gmail.com
END:VEVENT
BEGIN:VEVENT
DTSTART;TZID=Asia/Tokyo:20201022T143000
DTEND;TZID=Asia/Tokyo:20201022T153000
DTSTAMP:20260425T214101
CREATED:20201005T070044Z
LAST-MODIFIED:20201005T070604Z
UID:1240-1603377000-1603380600@ilchibrainyoga-takarazuka.com
SUMMARY:オンライン瞑想体験会　～動く瞑想
DESCRIPTION:「わたしはなぜ不安なのか？」\n「どうすれば自分とつながれる？」\n普段何気なく見過ごしている自分自身と\nもう一度つながりませんか？ \n・人の目が気になる\n・自信がもてない\n・心配が多い\n・慌ただしい毎日で疲れる\nそんな方は、ストレス管理、体と心の調節が\n自分でできるようになるといいですね。 \n「瞑想って、いいらしいけど、難しそう」\n「本を読んだけど分からなかった」\nという皆さんへ、\n瞑想を始めるときは、できればトレーナーに指導してもらうことをお勧めします。\nイルチブレインヨガの瞑想は、\n誰でも簡単に集中できるように工夫されていますので、\nお気軽にチャレンジしてみてください。\n\n＊＊＊＊＊＊＊＊＊＊＊＊＊＊＊＊＊\n「オンライン瞑想体験会　～動く瞑想」\n＜日時＞　10月22（木）14時30分～15時30分 \n＜お問い合わせ＞　\nお電話　０７９７－８６－０１９１\nＥメール　ilchibrtakarazuka@gmail.com \n＜ご予約＞　\nお電話　０７９７－８６－０１９１\nホームページ予約フォーム　https://ilchibrainyoga-takarazuka.com/yoyaku/ \n＜参加費＞　1000円税込（ご予約確定後お振込み頂きます） \n＜定員＞　先着５名様 \n※オンライン会議アプリ　ＺＯＯＭを使います。\n※集中しやすい静かな場所でご参加ください。椅子でもできます。\n＊＊＊＊＊＊＊＊＊＊＊＊＊＊＊＊＊＊＊
URL:https://ilchibrainyoga-takarazuka.com/event/%e3%82%aa%e3%83%b3%e3%83%a9%e3%82%a4%e3%83%b3%e7%9e%91%e6%83%b3%e4%bd%93%e9%a8%93%e4%bc%9a%e3%80%80%ef%bd%9e%e5%8b%95%e3%81%8f%e7%9e%91%e6%83%b3/
LOCATION:オンライン
CATEGORIES:オンライン体験会
ORGANIZER;CN="%E3%82%A4%E3%83%AB%E3%83%81%E3%83%96%E3%83%AC%E3%82%A4%E3%83%B3%E3%83%A8%E3%82%AC %E5%AE%9D%E5%A1%9A":MAILTO:ilchibrtakarazuka@gmail.com
END:VEVENT
BEGIN:VEVENT
DTSTART;TZID=Asia/Tokyo:20201008T143000
DTEND;TZID=Asia/Tokyo:20201008T153000
DTSTAMP:20260425T214101
CREATED:20201005T065609Z
LAST-MODIFIED:20201005T075054Z
UID:1238-1602167400-1602171000@ilchibrainyoga-takarazuka.com
SUMMARY:オンライン瞑想体験会　～天門瞑想
DESCRIPTION:「わたしはなぜ不安なのか？」\n「どうすれば自分とつながれる？」\n普段何気なく見過ごしている自分自身と\nもう一度つながりませんか？ \n・人の目が気になる\n・自信がもてない\n・心配が多い\n・慌ただしい毎日で疲れる\nそんな方は、ストレス管理、体と心の調節が\n自分でできるようになるといいですね。 \n「瞑想って、いいらしいけど、難しそう」\n「本を読んだけど分からなかった」\nという皆さんへ、\n瞑想を始めるときは、できればトレーナーに指導してもらうことをお勧めします。\nイルチブレインヨガの瞑想は、\n誰でも簡単に集中できるように工夫されていますので、\nお気軽にチャレンジしてみてください。\n\n＊＊＊＊＊＊＊＊＊＊＊＊＊＊＊＊＊\n「オンライン瞑想体験会　～天門瞑想」\n＜日時＞　10月8日（木）14時30分～15時30分 \n＜お問い合わせ＞　\nお電話　０７９７－８６－０１９１\nＥメール　ilchibrtakarazuka@gmail.com \n＜ご予約＞　\nお電話　０７９７－８６－０１９１\nホームページ予約フォーム　https://ilchibrainyoga-takarazuka.com/yoyaku/ \n＜参加費＞　1000円税込（ご予約確定後お振込み頂きます） \n＜定員＞　先着５名様 \n※オンライン会議アプリ　ＺＯＯＭを使います。\n※集中しやすい静かな場所でご参加ください。椅子でもできます。\n＊＊＊＊＊＊＊＊＊＊＊＊＊＊＊＊＊＊＊
URL:https://ilchibrainyoga-takarazuka.com/event/%e3%82%aa%e3%83%b3%e3%83%a9%e3%82%a4%e3%83%b3%e7%9e%91%e6%83%b3%e4%bd%93%e9%a8%93%e4%bc%9a%e3%80%80%ef%bd%9e%e5%a4%a9%e9%96%80%e7%9e%91%e6%83%b3/
LOCATION:オンライン
CATEGORIES:オンライン体験会
ORGANIZER;CN="%E3%82%A4%E3%83%AB%E3%83%81%E3%83%96%E3%83%AC%E3%82%A4%E3%83%B3%E3%83%A8%E3%82%AC %E5%AE%9D%E5%A1%9A":MAILTO:ilchibrtakarazuka@gmail.com
END:VEVENT
BEGIN:VEVENT
DTSTART;TZID=Asia/Tokyo:20200604T200000
DTEND;TZID=Asia/Tokyo:20200604T210000
DTSTAMP:20260425T214101
CREATED:20200602T095057Z
LAST-MODIFIED:20200602T095057Z
UID:1165-1591300800-1591304400@ilchibrainyoga-takarazuka.com
SUMMARY:瞑想クラス体験（オンライン）
DESCRIPTION:日々のストレスから離れ、心身とも健康に保つために、\n瞑想習慣、始めませんか？\nご自宅からオンラインでもご参加いただけます。 \n・からだの状態を眺める呼吸瞑想\n・感覚を深めるエネルギー瞑想\n・自分の意識を明るくするブレイン瞑想\nなど、皆さんに必要なおすすめ瞑想をチョイスして体験いただきます。\n\nイルチブレインヨガの瞑想は、誰でも簡単に集中できるよう考案されたものです。\n瞑想は初めての方、胡坐の姿勢が難しい方、集中力に自信のない方、大歓迎です。\nまず、ブレイン体操で軽く体をほぐしてリラックスさせてから瞑想に入りますので\n疲れもスッキリすると思います。 \n１回６０分\n参加費１０００円税込 \nお申込みは、こちらからどうぞ。 \nイルチブレインヨガ宝塚スタジオ \n\nご不明な点は、お気軽にお問い合わせください。\nイルチブレインヨガ宝塚スタジオ\n０７９７－８６－０１９１
URL:https://ilchibrainyoga-takarazuka.com/event/%e7%9e%91%e6%83%b3%e3%82%af%e3%83%a9%e3%82%b9%e4%bd%93%e9%a8%93%ef%bc%88%e3%82%aa%e3%83%b3%e3%83%a9%e3%82%a4%e3%83%b3%ef%bc%89/
LOCATION:オンライン
CATEGORIES:オンライン体験会
ATTACH;FMTTYPE=image/jpeg:https://ilchibrainyoga-takarazuka.com/wp-content/uploads/2014/06/s-event1.jpg
END:VEVENT
BEGIN:VEVENT
DTSTART;TZID=Asia/Tokyo:20200423T110000
DTEND;TZID=Asia/Tokyo:20200423T233000
DTSTAMP:20260425T214101
CREATED:20200413T145118Z
LAST-MODIFIED:20200413T145118Z
UID:1090-1587639600-1587684600@ilchibrainyoga-takarazuka.com
SUMMARY:オンラインミニクラス体験　ポカポカ
DESCRIPTION:オンラインミニクラス体験　ポカポカ \n運動不足解消に、体温アップに、生活のリズムづくりに\n30分のオンラインミニクラスを体験してみませんか？ \nイルチブレインヨガのブレイン体操は360種類以上。\n中でも、短い時間で体温アップするブレイン体操をチョイスし、\n病気にならない体づくりを応援します。 \n火曜日から日曜日\n朝11時~11時30分 \n申込みはこちらからどうぞ。\nhttps://online.ilchibrainyoga.com/
URL:https://ilchibrainyoga-takarazuka.com/event/%e3%82%aa%e3%83%b3%e3%83%a9%e3%82%a4%e3%83%b3%e3%83%9f%e3%83%8b%e3%82%af%e3%83%a9%e3%82%b9%e4%bd%93%e9%a8%93%e3%80%80%e3%83%9d%e3%82%ab%e3%83%9d%e3%82%ab-8/
LOCATION:オンライン
CATEGORIES:オンライン体験会
ATTACH;FMTTYPE=image/png:https://ilchibrainyoga-takarazuka.com/wp-content/uploads/2020/04/KakaoTalk_20200411_141323917.png
ORGANIZER;CN="%E3%82%A4%E3%83%AB%E3%83%81%E3%83%96%E3%83%AC%E3%82%A4%E3%83%B3%E3%83%A8%E3%82%AC %E5%AE%9D%E5%A1%9A":MAILTO:ilchibrtakarazuka@gmail.com
END:VEVENT
BEGIN:VEVENT
DTSTART;TZID=Asia/Tokyo:20200422T110000
DTEND;TZID=Asia/Tokyo:20200422T233000
DTSTAMP:20260425T214101
CREATED:20200413T145001Z
LAST-MODIFIED:20200413T145001Z
UID:1088-1587553200-1587598200@ilchibrainyoga-takarazuka.com
SUMMARY:オンラインミニクラス体験　ポカポカ
DESCRIPTION:オンラインミニクラス体験　ポカポカ \n運動不足解消に、体温アップに、生活のリズムづくりに\n30分のオンラインミニクラスを体験してみませんか？ \nイルチブレインヨガのブレイン体操は360種類以上。\n中でも、短い時間で体温アップするブレイン体操をチョイスし、\n病気にならない体づくりを応援します。 \n火曜日から日曜日\n朝11時~11時30分 \n申込みはこちらからどうぞ。\nhttps://online.ilchibrainyoga.com/
URL:https://ilchibrainyoga-takarazuka.com/event/%e3%82%aa%e3%83%b3%e3%83%a9%e3%82%a4%e3%83%b3%e3%83%9f%e3%83%8b%e3%82%af%e3%83%a9%e3%82%b9%e4%bd%93%e9%a8%93%e3%80%80%e3%83%9d%e3%82%ab%e3%83%9d%e3%82%ab-7/
LOCATION:オンライン
CATEGORIES:オンライン体験会
ATTACH;FMTTYPE=image/png:https://ilchibrainyoga-takarazuka.com/wp-content/uploads/2020/04/KakaoTalk_20200411_141323917.png
ORGANIZER;CN="%E3%82%A4%E3%83%AB%E3%83%81%E3%83%96%E3%83%AC%E3%82%A4%E3%83%B3%E3%83%A8%E3%82%AC %E5%AE%9D%E5%A1%9A":MAILTO:ilchibrtakarazuka@gmail.com
END:VEVENT
BEGIN:VEVENT
DTSTART;TZID=Asia/Tokyo:20200421T110000
DTEND;TZID=Asia/Tokyo:20200421T233000
DTSTAMP:20260425T214101
CREATED:20200413T144846Z
LAST-MODIFIED:20200413T144846Z
UID:1086-1587466800-1587511800@ilchibrainyoga-takarazuka.com
SUMMARY:オンラインミニクラス体験　ポカポカ
DESCRIPTION:オンラインミニクラス体験　ポカポカ \n運動不足解消に、体温アップに、生活のリズムづくりに\n30分のオンラインミニクラスを体験してみませんか？ \nイルチブレインヨガのブレイン体操は360種類以上。\n中でも、短い時間で体温アップするブレイン体操をチョイスし、\n病気にならない体づくりを応援します。 \n火曜日から日曜日\n朝11時~11時30分 \n申込みはこちらからどうぞ。\nhttps://online.ilchibrainyoga.com/
URL:https://ilchibrainyoga-takarazuka.com/event/%e3%82%aa%e3%83%b3%e3%83%a9%e3%82%a4%e3%83%b3%e3%83%9f%e3%83%8b%e3%82%af%e3%83%a9%e3%82%b9%e4%bd%93%e9%a8%93%e3%80%80%e3%83%9d%e3%82%ab%e3%83%9d%e3%82%ab-6/
LOCATION:オンライン
CATEGORIES:オンライン体験会
ATTACH;FMTTYPE=image/png:https://ilchibrainyoga-takarazuka.com/wp-content/uploads/2020/04/KakaoTalk_20200411_141323917.png
ORGANIZER;CN="%E3%82%A4%E3%83%AB%E3%83%81%E3%83%96%E3%83%AC%E3%82%A4%E3%83%B3%E3%83%A8%E3%82%AC %E5%AE%9D%E5%A1%9A":MAILTO:ilchibrtakarazuka@gmail.com
END:VEVENT
BEGIN:VEVENT
DTSTART;TZID=Asia/Tokyo:20200421T110000
DTEND;TZID=Asia/Tokyo:20200421T113000
DTSTAMP:20260425T214101
CREATED:20200408T125406Z
LAST-MODIFIED:20200408T125406Z
UID:1064-1587466800-1587468600@ilchibrainyoga-takarazuka.com
SUMMARY:オンラインミニ体験会　中脘呼吸
DESCRIPTION:体温アップと胃腸活性化で、自分の体を守りましょう。\n短時間で体がほぐれ、体が温かくなる中脘（ちゅうかん）呼吸を体験します。\n誰でも簡単にできて効果が体で感じられるのがイルチブレインヨガの特徴です。\nイスに座るか、立った姿勢でできるので、気軽にご参加ください。\n \n4月21日（火）11:00～11:30 \n＊おなか周りがらくな服装でご参加ください。\n＊直前に満腹にならないようにしましょう。 \n参加費1000円（税込）\n※下記の予約フォームからお申込み下さい。\n※備考欄に「オンライン」とお書きください。 \n体験のご予約 \n\n\nお待ちしております。
URL:https://ilchibrainyoga-takarazuka.com/event/%e3%82%aa%e3%83%b3%e3%83%a9%e3%82%a4%e3%83%b3%e3%83%9f%e3%83%8b%e4%bd%93%e9%a8%93%e4%bc%9a%e3%80%80%e4%b8%ad%e8%84%98%e5%91%bc%e5%90%b8/
LOCATION:オンライン
CATEGORIES:オンライン体験会
ORGANIZER;CN="%E3%82%A4%E3%83%AB%E3%83%81%E3%83%96%E3%83%AC%E3%82%A4%E3%83%B3%E3%83%A8%E3%82%AC %E5%AE%9D%E5%A1%9A":MAILTO:ilchibrtakarazuka@gmail.com
END:VEVENT
BEGIN:VEVENT
DTSTART;TZID=Asia/Tokyo:20200418T110000
DTEND;TZID=Asia/Tokyo:20200418T233000
DTSTAMP:20260425T214101
CREATED:20200413T144630Z
LAST-MODIFIED:20200413T144630Z
UID:1084-1587207600-1587252600@ilchibrainyoga-takarazuka.com
SUMMARY:オンラインミニクラス体験　ポカポカ
DESCRIPTION:オンラインミニクラス体験　ポカポカ \n運動不足解消に、体温アップに、生活のリズムづくりに\n30分のオンラインミニクラスを体験してみませんか？ \nイルチブレインヨガのブレイン体操は360種類以上。\n中でも、短い時間で体温アップするブレイン体操をチョイスし、\n病気にならない体づくりを応援します。 \n火曜日から日曜日\n朝11時~11時30分 \n申込みはこちらからどうぞ。\nhttps://online.ilchibrainyoga.com/
URL:https://ilchibrainyoga-takarazuka.com/event/%e3%82%aa%e3%83%b3%e3%83%a9%e3%82%a4%e3%83%b3%e3%83%9f%e3%83%8b%e3%82%af%e3%83%a9%e3%82%b9%e4%bd%93%e9%a8%93%e3%80%80%e3%83%9d%e3%82%ab%e3%83%9d%e3%82%ab-5/
LOCATION:オンライン
CATEGORIES:オンライン体験会
ATTACH;FMTTYPE=image/png:https://ilchibrainyoga-takarazuka.com/wp-content/uploads/2020/04/KakaoTalk_20200411_141323917.png
ORGANIZER;CN="%E3%82%A4%E3%83%AB%E3%83%81%E3%83%96%E3%83%AC%E3%82%A4%E3%83%B3%E3%83%A8%E3%82%AC %E5%AE%9D%E5%A1%9A":MAILTO:ilchibrtakarazuka@gmail.com
END:VEVENT
BEGIN:VEVENT
DTSTART;TZID=Asia/Tokyo:20200417T110000
DTEND;TZID=Asia/Tokyo:20200417T233000
DTSTAMP:20260425T214101
CREATED:20200413T144432Z
LAST-MODIFIED:20200413T144432Z
UID:1082-1587121200-1587166200@ilchibrainyoga-takarazuka.com
SUMMARY:オンラインミニクラス体験　ポカポカ
DESCRIPTION:オンラインミニクラス体験　ポカポカ \n運動不足解消に、体温アップに、生活のリズムづくりに\n30分のオンラインミニクラスを体験してみませんか？ \nイルチブレインヨガのブレイン体操は360種類以上。\n中でも、短い時間で体温アップするブレイン体操をチョイスし、\n病気にならない体づくりを応援します。 \n火曜日から日曜日\n朝11時~11時30分 \n申込みはこちらからどうぞ。\nhttps://online.ilchibrainyoga.com/
URL:https://ilchibrainyoga-takarazuka.com/event/%e3%82%aa%e3%83%b3%e3%83%a9%e3%82%a4%e3%83%b3%e3%83%9f%e3%83%8b%e3%82%af%e3%83%a9%e3%82%b9%e4%bd%93%e9%a8%93%e3%80%80%e3%83%9d%e3%82%ab%e3%83%9d%e3%82%ab-4/
LOCATION:オンライン
CATEGORIES:オンライン体験会
ATTACH;FMTTYPE=image/png:https://ilchibrainyoga-takarazuka.com/wp-content/uploads/2020/04/KakaoTalk_20200411_141323917.png
ORGANIZER;CN="%E3%82%A4%E3%83%AB%E3%83%81%E3%83%96%E3%83%AC%E3%82%A4%E3%83%B3%E3%83%A8%E3%82%AC %E5%AE%9D%E5%A1%9A":MAILTO:ilchibrtakarazuka@gmail.com
END:VEVENT
BEGIN:VEVENT
DTSTART;TZID=Asia/Tokyo:20200416T150000
DTEND;TZID=Asia/Tokyo:20200416T153000
DTSTAMP:20260425T214101
CREATED:20200408T125039Z
LAST-MODIFIED:20200408T125039Z
UID:1059-1587049200-1587051000@ilchibrainyoga-takarazuka.com
SUMMARY:オンラインミニ体験　中脘呼吸
DESCRIPTION:体温アップと胃腸活性化で、自分の体を守りましょう。\n短時間で体がほぐれ、体が温かくなる中脘（ちゅうかん）呼吸を体験します。\n誰でも簡単にできて効果が体で感じられるのがイルチブレインヨガの特徴です。\nイスに座るか、立った姿勢でできるので、気軽にご参加ください。\n\n4月16日（木）15:00～15:30\n4月18日（土）14:00～14:30\n4月21日（火）11:00～11:30 \n＊おなか周りがらくな服装でご参加ください。\n＊直前に満腹にならないようにしましょう。 \n参加費1000円（税込）\n※下記の予約フォームからお申込み下さい。\n※備考欄に「オンライン」とお書きください。 \n体験のご予約 \n\n\nお待ちしております。
URL:https://ilchibrainyoga-takarazuka.com/event/%e3%82%aa%e3%83%b3%e3%83%a9%e3%82%a4%e3%83%b3%e3%83%9f%e3%83%8b%e4%bd%93%e9%a8%93%e3%80%80%e4%b8%ad%e8%84%98%e5%91%bc%e5%90%b8/
LOCATION:オンライン
CATEGORIES:オンライン体験会
ORGANIZER;CN="%E3%82%A4%E3%83%AB%E3%83%81%E3%83%96%E3%83%AC%E3%82%A4%E3%83%B3%E3%83%A8%E3%82%AC %E5%AE%9D%E5%A1%9A":MAILTO:ilchibrtakarazuka@gmail.com
END:VEVENT
BEGIN:VEVENT
DTSTART;TZID=Asia/Tokyo:20200416T110000
DTEND;TZID=Asia/Tokyo:20200416T233000
DTSTAMP:20260425T214101
CREATED:20200413T143748Z
LAST-MODIFIED:20200413T143748Z
UID:1077-1587034800-1587079800@ilchibrainyoga-takarazuka.com
SUMMARY:オンラインミニクラス体験　ポカポカ
DESCRIPTION:オンラインミニクラス体験　ポカポカ \n運動不足解消に、体温アップに、生活のリズムづくりに\n30分のオンラインミニクラスを体験してみませんか？ \nイルチブレインヨガのブレイン体操は360種類以上。\n中でも、短い時間で体温アップするブレイン体操をチョイスし、\n病気にならない体づくりを応援します。 \n火曜日から日曜日\n朝11時~11時30分 \n申込みはこちらからどうぞ。\nhttps://online.ilchibrainyoga.com/
URL:https://ilchibrainyoga-takarazuka.com/event/%e3%82%aa%e3%83%b3%e3%83%a9%e3%82%a4%e3%83%b3%e3%83%9f%e3%83%8b%e3%82%af%e3%83%a9%e3%82%b9%e4%bd%93%e9%a8%93%e3%80%80%e3%83%9d%e3%82%ab%e3%83%9d%e3%82%ab-3/
LOCATION:オンライン
CATEGORIES:オンライン体験会
ATTACH;FMTTYPE=image/png:https://ilchibrainyoga-takarazuka.com/wp-content/uploads/2020/04/KakaoTalk_20200411_141323917.png
ORGANIZER;CN="%E3%82%A4%E3%83%AB%E3%83%81%E3%83%96%E3%83%AC%E3%82%A4%E3%83%B3%E3%83%A8%E3%82%AC %E5%AE%9D%E5%A1%9A":MAILTO:ilchibrtakarazuka@gmail.com
END:VEVENT
BEGIN:VEVENT
DTSTART;TZID=Asia/Tokyo:20200415T110000
DTEND;TZID=Asia/Tokyo:20200415T233000
DTSTAMP:20260425T214101
CREATED:20200413T143529Z
LAST-MODIFIED:20200413T143529Z
UID:1075-1586948400-1586993400@ilchibrainyoga-takarazuka.com
SUMMARY:オンラインミニクラス体験　ポカポカ
DESCRIPTION:オンラインミニクラス体験　ポカポカ \n運動不足解消に、体温アップに、生活のリズムづくりに\n30分のオンラインミニクラスを体験してみませんか？ \nイルチブレインヨガのブレイン体操は360種類以上。\n中でも、短い時間で体温アップするブレイン体操をチョイスし、\n病気にならない体づくりを応援します。 \n火曜日から日曜日\n朝11時~11時30分 \n申込みはこちらからどうぞ。\nhttps://online.ilchibrainyoga.com/
URL:https://ilchibrainyoga-takarazuka.com/event/%e3%82%aa%e3%83%b3%e3%83%a9%e3%82%a4%e3%83%b3%e3%83%9f%e3%83%8b%e3%82%af%e3%83%a9%e3%82%b9%e4%bd%93%e9%a8%93%e3%80%80%e3%83%9d%e3%82%ab%e3%83%9d%e3%82%ab-2/
LOCATION:オンライン
CATEGORIES:オンライン体験会
ATTACH;FMTTYPE=image/png:https://ilchibrainyoga-takarazuka.com/wp-content/uploads/2020/04/KakaoTalk_20200411_141323917.png
ORGANIZER;CN="%E3%82%A4%E3%83%AB%E3%83%81%E3%83%96%E3%83%AC%E3%82%A4%E3%83%B3%E3%83%A8%E3%82%AC %E5%AE%9D%E5%A1%9A":MAILTO:ilchibrtakarazuka@gmail.com
END:VEVENT
BEGIN:VEVENT
DTSTART;TZID=Asia/Tokyo:20200414T170000
DTEND;TZID=Asia/Tokyo:20200414T183000
DTSTAMP:20260425T214101
CREATED:20200328T124126Z
LAST-MODIFIED:20200328T124126Z
UID:1032-1586883600-1586889000@ilchibrainyoga-takarazuka.com
SUMMARY:「ぐっすり眠ろう。リラックス瞑想オンライン体験会」
DESCRIPTION:「ぐっすり眠ろう。リラックス瞑想オンライン体験会」 \n最近よく眠れていますか？\n健康のグッドバランスは、体温のバランスでもあります。\n「足を温かく、頭を涼しく」\n日本では「頭寒足熱　ずかんそくねつ」と言ったりしますね。 \nこのバランスが崩れやすいのは、腸の調子が悪かったり、ストレスで体や心が緊張しているときです。\nゆっくり体をほぐして、下半身に温かい気が下りるブレイン体操と\nストレスを緩めるリラックス呼吸を体験してみましょう。 \n◆日時\n４月１４日（火）１７時００分~１８時３０分\n（両日とも参加無料） \n◆開催場所\nオンラインにて（zoomというシステムを使います。）\n（申し込みされると、インターネットの接続方法をご案内します。接続は簡単ですので、お気軽にお申込み下さい。） \n◆ご予約フォーム \n体験のご予約 \n \n◆お問い合わせ電話番号\n０７９７－８６－０１９１　　担当：岩田 \n火～金　９時~２１時\n土日　９時～１８時\n月・祝　定休日
URL:https://ilchibrainyoga-takarazuka.com/event/%e3%80%8c%e3%81%90%e3%81%a3%e3%81%99%e3%82%8a%e7%9c%a0%e3%82%8d%e3%81%86%e3%80%82%e3%83%aa%e3%83%a9%e3%83%83%e3%82%af%e3%82%b9%e7%9e%91%e6%83%b3%e3%82%aa%e3%83%b3%e3%83%a9%e3%82%a4%e3%83%b3%e4%bd%93/
LOCATION:オンライン
CATEGORIES:オンライン体験会,ワークショップ
ATTACH;FMTTYPE=image/jpeg:https://ilchibrainyoga-takarazuka.com/wp-content/uploads/2014/06/s-event1.jpg
ORGANIZER;CN="%E3%82%A4%E3%83%AB%E3%83%81%E3%83%96%E3%83%AC%E3%82%A4%E3%83%B3%E3%83%A8%E3%82%AC %E5%AE%9D%E5%A1%9A":MAILTO:ilchibrtakarazuka@gmail.com
END:VEVENT
BEGIN:VEVENT
DTSTART;TZID=Asia/Tokyo:20200414T110000
DTEND;TZID=Asia/Tokyo:20200414T233000
DTSTAMP:20260425T214101
CREATED:20200413T143201Z
LAST-MODIFIED:20200413T143201Z
UID:1073-1586862000-1586907000@ilchibrainyoga-takarazuka.com
SUMMARY:オンラインミニクラス体験　ポカポカ
DESCRIPTION:運動不足解消に、体温アップに、生活のリズムづくりに\n30分のオンラインミニクラスを体験してみませんか？ \nイルチブレインヨガのブレイン体操は360種類以上。\n中でも、短い時間で体温アップするブレイン体操をチョイスし、\n病気にならない体づくりを応援します。 \n火曜日から日曜日\n朝11時~11時30分 \n申込みはこちらからどうぞ。 \nHOME
URL:https://ilchibrainyoga-takarazuka.com/event/%e3%82%aa%e3%83%b3%e3%83%a9%e3%82%a4%e3%83%b3%e3%83%9f%e3%83%8b%e3%82%af%e3%83%a9%e3%82%b9%e4%bd%93%e9%a8%93%e3%80%80%e3%83%9d%e3%82%ab%e3%83%9d%e3%82%ab/
LOCATION:オンライン
CATEGORIES:オンライン体験会
ATTACH;FMTTYPE=image/png:https://ilchibrainyoga-takarazuka.com/wp-content/uploads/2020/04/64e8adf2087d75ee222ec15a04812d23.png
ORGANIZER;CN="%E3%82%A4%E3%83%AB%E3%83%81%E3%83%96%E3%83%AC%E3%82%A4%E3%83%B3%E3%83%A8%E3%82%AC %E5%AE%9D%E5%A1%9A":MAILTO:ilchibrtakarazuka@gmail.com
END:VEVENT
BEGIN:VEVENT
DTSTART;TZID=Asia/Tokyo:20200410T143000
DTEND;TZID=Asia/Tokyo:20200410T160000
DTSTAMP:20260425T214101
CREATED:20200328T122705Z
LAST-MODIFIED:20200328T122832Z
UID:1026-1586529000-1586534400@ilchibrainyoga-takarazuka.com
SUMMARY:腸活ヨガ体験会
DESCRIPTION:腸活ヨガ体験会 \n腸は健康の要です。\nまた、脳と直接神経網で繋がっていて、腸は「第二の脳」とも言われます。\n脳は直接ほぐすことはできませんが、お腹はかんたんにほぐすことが出来ます。 \nイルチブレインヨガのトレーニングは、\n腸を中心とした丹田の活性化が基本です。\n腸の健康が体の健康に直結し、また脳に新鮮な血液が届くようにするカギを握っています。 \n４月は、腸活ヨガ体験会をオンラインでしますので、\n体力、抵抗力をつけたい方はぜひご参加ください。\n腸元気＝脳元気＝健康！！\nお待ちしています? \n◆日時\n４月１０日（金）１４時３０分~１６時\n（両日とも参加無料） \n◆開催場所\nオンラインにて（zoomというシステムを使います。）\n（申し込みされると、インターネットの接続方法をご案内します。接続は簡単ですので、お気軽にお申込み下さい。） \n◆ご予約フォーム \n体験のご予約 \n \n◆お問い合わせ電話番号\n０７９７－８６－０１９１　　担当：岩田 \n火～金　９時~２１時\n土日　９時～１８時\n月・祝　定休日
URL:https://ilchibrainyoga-takarazuka.com/event/%e8%85%b8%e6%b4%bb%e3%83%a8%e3%82%ac%e4%bd%93%e9%a8%93%e4%bc%9a-3/
LOCATION:オンライン
CATEGORIES:オンライン体験会,ワークショップ
ATTACH;FMTTYPE=image/png:https://ilchibrainyoga-takarazuka.com/wp-content/uploads/2017/08/heso03.png
ORGANIZER;CN="%E3%82%A4%E3%83%AB%E3%83%81%E3%83%96%E3%83%AC%E3%82%A4%E3%83%B3%E3%83%A8%E3%82%AC %E5%AE%9D%E5%A1%9A":MAILTO:ilchibrtakarazuka@gmail.com
END:VEVENT
BEGIN:VEVENT
DTSTART;TZID=Asia/Tokyo:20200407T170000
DTEND;TZID=Asia/Tokyo:20200407T183000
DTSTAMP:20260425T214101
CREATED:20200328T123922Z
LAST-MODIFIED:20200328T124221Z
UID:1029-1586278800-1586284200@ilchibrainyoga-takarazuka.com
SUMMARY:ぐっすり眠ろう。 リラックス瞑想オンライン体験会
DESCRIPTION:「ぐっすり眠ろう。リラックス瞑想オンライン体験会」 \n最近よく眠れていますか？\n健康のグッドバランスは、体温のバランスでもあります。\n「足を温かく、頭を涼しく」\n日本では「頭寒足熱　ずかんそくねつ」と言ったりしますね。 \nこのバランスが崩れやすいのは、腸の調子が悪かったり、ストレスで体や心が緊張しているときです。\nゆっくり体をほぐして、下半身に温かい気が下りるブレイン体操と\nストレスを緩めるリラックス呼吸を体験してみましょう。 \n◆日時\n４月　７日（火）１７時００分~１８時３０分\n４月１４日（火）１７時００分~１８時３０分\n（両日とも参加無料） \n◆開催場所\nオンラインにて（zoomというシステムを使います。）\n（申し込みされると、インターネットの接続方法をご案内します。接続は簡単ですので、お気軽にお申込み下さい。） \n◆ご予約フォーム \n体験のご予約 \n \n◆お問い合わせ電話番号\n０７９７－８６－０１９１　　担当：岩田 \n火～金　９時~２１時\n土日　９時～１８時\n月・祝　定休日
URL:https://ilchibrainyoga-takarazuka.com/event/%e3%81%90%e3%81%a3%e3%81%99%e3%82%8a%e7%9c%a0%e3%82%8d%e3%81%86%e3%80%82-%e3%83%aa%e3%83%a9%e3%83%83%e3%82%af%e3%82%b9%e7%9e%91%e6%83%b3%e3%82%aa%e3%83%b3%e3%83%a9%e3%82%a4%e3%83%b3%e4%bd%93%e9%a8%93/
LOCATION:オンライン
CATEGORIES:オンライン体験会,ワークショップ
ATTACH;FMTTYPE=image/jpeg:https://ilchibrainyoga-takarazuka.com/wp-content/uploads/2014/06/s-event1.jpg
ORGANIZER;CN="%E3%82%A4%E3%83%AB%E3%83%81%E3%83%96%E3%83%AC%E3%82%A4%E3%83%B3%E3%83%A8%E3%82%AC %E5%AE%9D%E5%A1%9A":MAILTO:ilchibrtakarazuka@gmail.com
END:VEVENT
BEGIN:VEVENT
DTSTART;TZID=Asia/Tokyo:20200403T143000
DTEND;TZID=Asia/Tokyo:20200403T160000
DTSTAMP:20260425T214101
CREATED:20200328T122335Z
LAST-MODIFIED:20200328T122739Z
UID:1024-1585924200-1585929600@ilchibrainyoga-takarazuka.com
SUMMARY:腸活ヨガ体験会
DESCRIPTION:腸活ヨガ体験会 \n腸は健康の要です。\nまた、脳と直接神経網で繋がっていて、腸は「第二の脳」とも言われます。\n脳は直接ほぐすことはできませんが、お腹はかんたんにほぐすことが出来ます。 \nイルチブレインヨガのトレーニングは、\n腸を中心とした丹田の活性化が基本です。\n腸の健康が体の健康に直結し、また脳に新鮮な血液が届くようにするカギを握っています。 \n４月は、腸活ヨガ体験会をオンラインでしますので、\n体力、抵抗力をつけたい方はぜひご参加ください。\n腸元気＝脳元気＝健康！！\nお待ちしています? \n◆日時\n４月　３日（金）１４時３０分~１６時\n４月１０日（金）１４時３０分~１６時\n（両日とも参加無料） \n◆開催場所\nオンラインにて（zoomというシステムを使います。）\n（申し込みされると、インターネットの接続方法をご案内します。接続は簡単ですので、お気軽にお申込み下さい。） \n◆ご予約フォーム \n体験のご予約 \n \n◆お問い合わせ電話番号\n０７９７－８６－０１９１　　担当：岩田 \n火～金　９時~２１時\n土日　９時～１８時\n月・祝　定休日
URL:https://ilchibrainyoga-takarazuka.com/event/%e8%85%b8%e6%b4%bb%e3%83%a8%e3%82%ac%e4%bd%93%e9%a8%93%e4%bc%9a-2/
LOCATION:オンライン
CATEGORIES:オンライン体験会,ワークショップ
ATTACH;FMTTYPE=image/png:https://ilchibrainyoga-takarazuka.com/wp-content/uploads/2017/08/heso03.png
ORGANIZER;CN="%E3%82%A4%E3%83%AB%E3%83%81%E3%83%96%E3%83%AC%E3%82%A4%E3%83%B3%E3%83%A8%E3%82%AC %E5%AE%9D%E5%A1%9A":MAILTO:ilchibrtakarazuka@gmail.com
END:VEVENT
END:VCALENDAR